BEGIN:VCALENDAR
PRODID:NingEventWidget-v1
VERSION:2.0
METHOD:PUBLISH
BEGIN:VEVENT
UID:3186561:Event:46840
DTSTAMP:20210313T183158Z
SUMMARY:Backbone Radio w/ Matt Dunn and Krista Kafer
DESCRIPTION:Radio hosts, Matt Dunn and Krista Kafer, will offer their 
 commentary on events both cultural and political.\n \nTune in at 5:00
  p.m. to hear Arapahoe Tea Party chairman, Randy Corporon, discuss th
 e Colorado Freedom Festival and the August 13 monthly meeting. \n \n
 http://www.coloradofreedomfestival.com/Matt and Krista will likely hav
 e other guests and topics of interest so stay tuned.\n \nDon’t miss
  it! Tune in to 710 KNUS or 1460 KZNT Colorado Springs or online at ht
 tp://www.710knus.com/ from 5 to 8 PM. Call  303-696-1071. Your smart 
 choice for Sunday night radio.\n \nhttp://backboneradio.net/\n  \n\n
 \nFor more information visit http://arapahoeteaparty.ning.com/events/b
 ackbone-radio-w-matt-dunn-and-krista-kafer-29
DTSTART:20130804T230000Z
DTEND:20130805T020000Z
CATEGORIES:"radio show"
LOCATION:\"Radio  AM 710 KNUS\"
WEBSITE:http://www.710knus.com/
URL:http://www.710knus.com/
CONTACT:
ORGANIZER:Matt Dunn and Krista Kafer [posted by W. Branstetter]
ATTACH;FMTTYPE="image/jpeg":
ATTENDEE;ROLE=REQ-PARTICIPANT;PARTSTAT=ACCEPTED;RSVP=TRUE;CN="W. Brans
 tetter":http://arapahoeteaparty.ning.com/profile/WBranstetter
END:VEVENT
END:VCALENDAR
