BEGIN:VCALENDAR
PRODID:NingEventWidget-v1
VERSION:2.0
METHOD:PUBLISH
BEGIN:VEVENT
UID:3186561:Event:46811
DTSTAMP:20210313T173228Z
SUMMARY:Backbone Radio w/ Matt Dunn and Krista Kafer
DESCRIPTION:Radio hosts, Matt Dunn and Krista Kafer, will offer their 
 commentary on events both cultural and political.\n \nYou will have t
 o tune in at 5:00 p.m. to find out what the topics and guests might b
 e.\n \nDon’t miss it! Tune in to 710 KNUS or 1460 KZNT Colorado Spr
 ings or online at http://www.710knus.com/ from 5 to 8 PM. Call  303-6
 96-1071. Your smart choice for Sunday night radio.\n \nhttp://backbon
 eradio.net/\n  \n\n\nFor more information visit http://arapahoeteapar
 ty.ning.com/events/backbone-radio-w-matt-dunn-and-krista-kafer-28
DTSTART:20130728T230000Z
DTEND:20130729T020000Z
CATEGORIES:"radio show"
LOCATION:\"Radio  AM 710 KNUS\"
WEBSITE:http://www.710knus.com/
URL:http://www.710knus.com/
CONTACT:
ORGANIZER:Matt Dunn and Krista Kafer [posted by W. Branstetter]
ATTACH;FMTTYPE="image/jpeg":
ATTENDEE;ROLE=REQ-PARTICIPANT;PARTSTAT=ACCEPTED;RSVP=TRUE;CN="W. Brans
 tetter":http://arapahoeteaparty.ning.com/profile/WBranstetter
END:VEVENT
END:VCALENDAR
