BEGIN:VCALENDAR
PRODID:NingEventWidget-v1
VERSION:2.0
METHOD:PUBLISH
BEGIN:VEVENT
UID:3186561:Event:46556
DTSTAMP:20210313T183132Z
SUMMARY:Backbone Radio w/ Matt Dunn and Krista Kafer
DESCRIPTION:Radio hosts, Matt Dunn and Krista Kafer, will offer their 
 commentary on events both cultural and political.\n \nRandy Corporon,
  chairman for Arapahoe County Tea Party, will be a guest during the 7:
 00 to 8:00 p.m. hour to talk with Matt and Krista.  CORRECTION!  Ran
 dy posted 6:00 to 7:00 p.m.\n \nYou will have to tune in at 5:00 p.m.
  to find out what the other topics and guests might be.\n \nDon’t m
 iss it! Tune in to 710 KNUS or 1460 KZNT Colorado Springs or online at
  http://www.710knus.com/ from 5 to 8 PM. Call  303-696-1071. Your sma
 rt choice for Sunday night radio.\n \nhttp://backboneradio.net/\nRand
 y posted event on Facebook at:\n\nhttps://www.facebook.com/events/5464
 72985413575/\n\n\nFor more information visit http://arapahoeteaparty.n
 ing.com/events/backbone-radio-w-matt-dunn-and-krista-kafer-26
DTSTART:20130630T230000Z
DTEND:20130701T020000Z
CATEGORIES:"radio show"
LOCATION:\"Radio  AM 710 KNUS\"
WEBSITE:http://www.710knus.com/
URL:http://www.710knus.com/
CONTACT:
ORGANIZER:Matt Dunn and Krista Kafer [posted by W. Branstetter]
ATTACH;FMTTYPE="image/jpeg":
ATTENDEE;ROLE=REQ-PARTICIPANT;PARTSTAT=ACCEPTED;RSVP=TRUE;CN="Randy B 
 Corporon":http://arapahoeteaparty.ning.com/profile/RandyBCorporon
ATTENDEE;ROLE=REQ-PARTICIPANT;PARTSTAT=ACCEPTED;RSVP=TRUE;CN="W. Brans
 tetter":http://arapahoeteaparty.ning.com/profile/WBranstetter
END:VEVENT
END:VCALENDAR
