BEGIN:VCALENDAR
PRODID:NingEventWidget-v1
VERSION:2.0
METHOD:PUBLISH
BEGIN:VEVENT
UID:3186561:Event:46291
DTSTAMP:20210313T174605Z
SUMMARY:Backbone Radio w/ Matt Dunn and Krista Kafer
DESCRIPTION:Radio hosts, Matt Dunn and Krista Kafer, will offer their 
 commentary on events both cultural and political.\n \nAnd of course b
 umper music in honor of Fathers Day\n \nDebbie Brown is sitting in fo
 r Krista Kafer.  Matt and Debbie will be talking about various events
  and news and taking calls.\n \nDon’t miss it! Tune in to 710 KNUS 
 or 1460 KZNT Colorado Springs or online at http://www.710knus.com/ fro
 m 5 to 8 PM. Call  303-696-1071. Your smart choice for Sunday night r
 adio.\n \nhttp://backboneradio.net/\n\n\nFor more information visit h
 ttp://arapahoeteaparty.ning.com/events/backbone-radio-w-matt-dunn-and-
 krista-kafer-25
DTSTART:20130616T230000Z
DTEND:20130617T020000Z
CATEGORIES:"radio show"
LOCATION:\"Radio  AM 710 KNUS\"
WEBSITE:http://www.710knus.com/
URL:http://www.710knus.com/
CONTACT:
ORGANIZER:Matt Dunn and Krista Kafer [posted by W. Branstetter]
ATTACH;FMTTYPE="image/jpeg":
ATTENDEE;ROLE=REQ-PARTICIPANT;PARTSTAT=ACCEPTED;RSVP=TRUE;CN="W. Brans
 tetter":http://arapahoeteaparty.ning.com/profile/WBranstetter
END:VEVENT
END:VCALENDAR
