BEGIN:VCALENDAR
PRODID:NingEventWidget-v1
VERSION:2.0
METHOD:PUBLISH
BEGIN:VEVENT
UID:3186561:Event:44987
DTSTAMP:20210313T180813Z
SUMMARY:Backbone Radio w/ Matt Dunn and Krista Kafer
DESCRIPTION:Radio hosts, Matt Dunn and Krista Kafer, will offer their 
 commentary on events both cultural and political.\nÂ \nA program annou
 ncement for guests has not been sent but the topics are usually timely
 .Â  Tune in to find out what they and their guests will say.\nÂ \nDonâ
 €™t miss it! Tune in to 710 KNUS or 1460 KZNT Colorado Springs or onli
 ne at http://www.710knus.com/ from 5 to 8 PM. CallÂ  303-696-1071. You
 r smart choice for Sunday night radio.\nÂ \nhttp://backboneradio.net/\
 n\n\nFor more information visit http://arapahoeteaparty.ning.com/event
 s/backbone-radio-w-matt-dunn-and-krista-kafer-24
DTSTART:20130519T230000Z
DTEND:20130520T020000Z
CATEGORIES:"radio show"
LOCATION:\"Radio  AM 710 KNUS\"
WEBSITE:http://www.710knus.com/
URL:http://www.710knus.com/
CONTACT:
ORGANIZER:Matt Dunn and Krista Kafer [posted by W. Branstetter]
ATTACH;FMTTYPE="image/jpeg":
ATTENDEE;ROLE=REQ-PARTICIPANT;PARTSTAT=ACCEPTED;RSVP=TRUE;CN="W. Brans
 tetter":http://arapahoeteaparty.ning.com/profile/WBranstetter
END:VEVENT
END:VCALENDAR
