BEGIN:VCALENDAR
PRODID:NingEventWidget-v1
VERSION:2.0
METHOD:PUBLISH
BEGIN:VEVENT
UID:3186561:Event:44745
DTSTAMP:20210313T180237Z
SUMMARY:Backbone Radio w/ Matt Dunn and Krista Kafer
DESCRIPTION:Radio hosts, Matt Dunn and Krista Kafer, will offer their 
 commentary on events both cultural and political.\n \nA program annou
 ncement for guests has not been sent but the topics are usually timely
 .  There are several legislative issues that might be included.  Tun
 e in to find out.\n \nDon’t miss it! Tune in to 710 KNUS or 1460 KZ
 NT Colorado Springs or online at http://www.710knus.com/ from 5 to 8 P
 M. Call  303-696-1071. Your smart choice for Sunday night radio.\n \
 nhttp://backboneradio.net/\n\n\nFor more information visit http://arap
 ahoeteaparty.ning.com/events/backbone-radio-w-matt-dunn-and-krista-kaf
 er-23
DTSTART:20130414T230000Z
DTEND:20130415T020000Z
CATEGORIES:"radio show"
LOCATION:\"Radio  AM 710 KNUS\"
WEBSITE:http://www.710knus.com/
URL:http://www.710knus.com/
CONTACT:
ORGANIZER:Matt Dunn and Krista Kafer [posted by W. Branstetter]
ATTACH;FMTTYPE="image/jpeg":
ATTENDEE;ROLE=REQ-PARTICIPANT;PARTSTAT=ACCEPTED;RSVP=TRUE;CN="W. Brans
 tetter":http://arapahoeteaparty.ning.com/profile/WBranstetter
END:VEVENT
END:VCALENDAR
