BEGIN:VCALENDAR
PRODID:NingEventWidget-v1
VERSION:2.0
METHOD:PUBLISH
BEGIN:VEVENT
UID:3186561:Event:41990
DTSTAMP:20210313T180525Z
SUMMARY:Backbone Radio w/ Matt Dunn and Krista Kafer
DESCRIPTION:Radio hosts, Matt Dunn and Krista Kafer, will offer their 
 commentary on events both cultural and political.\n \nTom Tancredo on
  topic of immigration Tisha Schuller of the Colorado Oil and Gas Assoc
 iation on \"fracking\"  Other topics include:  Carl Rove, Senator Ran
 d Paul's speech at Heritage, Krista's op-ed in the Denver Post, and Dr
 . Benjamin Carson's speech at the National Prayer Breakfast.    They 
 \"invite your calls at 303-696-1971. Listen live on 710am KNUS in Denv
 er -Metro, or 1460am KZNT in Colorado Springs and also iHeartRADIO on 
 your mobile device. Politics, culture and controversy — plus some gr
 oovy bumper music. Backbone Radio, the higher ground in Colorado talk 
 radio.\" \n\n \nDon’t miss it! Tune in to 710 KNUS or 1460 KZNT Co
 lorado Springs or online at http://www.710knus.com/ from 5 to 8 PM. Ca
 ll  303-696-1071. Your smart choice for Sunday night radio.\n \nhttp
 ://backboneradio.net/\n\n\nFor more information visit http://arapahoet
 eaparty.ning.com/events/backbone-radio-w-matt-dunn-and-krista-kafer-21
DTSTART:20130211T000000Z
DTEND:20130211T030000Z
CATEGORIES:"radio show"
LOCATION:\"Radio  AM 710 KNUS\"
WEBSITE:http://www.710knus.com/
URL:http://www.710knus.com/
CONTACT:
ORGANIZER:Matt Dunn and Krista Kafer [posted by W. Branstetter]
ATTACH;FMTTYPE="image/jpeg":
ATTENDEE;ROLE=REQ-PARTICIPANT;PARTSTAT=ACCEPTED;RSVP=TRUE;CN="W. Brans
 tetter":http://arapahoeteaparty.ning.com/profile/WBranstetter
END:VEVENT
END:VCALENDAR
