BEGIN:VCALENDAR
PRODID:NingEventWidget-v1
VERSION:2.0
METHOD:PUBLISH
BEGIN:VEVENT
UID:3186561:Event:41905
DTSTAMP:20210313T182649Z
SUMMARY:Backbone Radio w/ Matt Dunn and Krista Kafer
DESCRIPTION:Radio hosts, Matt Dunn and Krista Kafer, will offer their 
 commentary on events both cultural and political.\n \n\"We’ll have 
 an important in-studio conversation with Kevin Miller about the politi
 cal future of evangelical Christians. The author of “Freedom Nationa
 lly, Virtue Locally” questions to what extent the federal government
  should be involved in legislating virtue. In the aftermath of the 201
 2 election, Miller’s message is especially timely for the present mo
 ment in the culture wars.\nWe’ll discuss the President’s inaugural
  speech with its straw men, leftist priorities, and overwhelming parti
 san tone. Roughly half as many people watched the speech this time aro
 und. We took one for the team and tuned in.\n\nYou’re in for a music
 al tribute to Hillary Clinton’s testimony about Benghazi, with the S
 miths’ song “What Difference Does It Make,” and another tribute 
 to that pesky fly that walked over President Obama’s face this week 
 with Hank Williams’ prescient “Fly Trouble.”\nAnd what do Matt &
  Krista think about Women In Combat? Is it a good idea, or just anothe
 r leftist experiment against reality? Meanwhile, Phyllis Schlafly is a
 rguing against “free trade” in America. That’s a surprise.\nAmid
 st the early posturing for 2016, we’ll discuss Senator Rubio’s imm
 igration plans for the GOP, Governor Jindal’s plans for the GOP in g
 eneral, and Senator Rand Paul’s impressive feistiness. Is anyone loo
 king like a leader yet? Speaking of leadership, we noted that historia
 n David McCullough rates Gerald Ford as one of America’s best all-ti
 me presidents. How so?\nCloser to home, we’ll discuss the problem of
  rabbits chewing on cars parked at Denver International Airport, and t
 he disturbing grime spree of Tide laundry detergent being shoplifted o
 ff of local supermarket shelves.\"\n \nDon’t miss it! Tune in to 71
 0 KNUS or 1460 KZNT Colorado Springs or online at http://www.710knus.c
 om/ from 5 to 8 PM. Call  303-696-1071. Your smart choice for Sunday 
 night radio.\n \nhttp://backboneradio.net/\n\n\nFor more information 
 visit http://arapahoeteaparty.ning.com/events/backbone-radio-w-matt-du
 nn-and-krista-kafer-20
DTSTART:20130128T000000Z
DTEND:20130128T030000Z
CATEGORIES:"radio show"
LOCATION:\"Radio  AM 710 KNUS\"
WEBSITE:http://www.710knus.com/
URL:http://www.710knus.com/
CONTACT:
ORGANIZER:Matt Dunn and Krista Kafer [posted by W. Branstetter]
ATTACH;FMTTYPE="image/jpeg":
ATTENDEE;ROLE=REQ-PARTICIPANT;PARTSTAT=ACCEPTED;RSVP=TRUE;CN="W. Brans
 tetter":http://arapahoeteaparty.ning.com/profile/WBranstetter
END:VEVENT
END:VCALENDAR
