BEGIN:VCALENDAR
PRODID:NingEventWidget-v1
VERSION:2.0
METHOD:PUBLISH
BEGIN:VEVENT
UID:3186561:Event:38784
DTSTAMP:20210313T171740Z
SUMMARY:Backbone Radio w/ Matt Dunn and Krista Kafer
DESCRIPTION:Radio hosts, Matt Dunn and Krista Kafer, will offer their 
 commentary on events both cultural and political.\nÂ \nAn outline for 
 the show was not received.Â  Krista has been filling in for the Amy Ol
 iver show on Greeley 1310 KFKA this week, so she has had a lot to cove
 r.Â  Perhaps Krista and Matt will cover the hurricane and RNC news.\nÂ
  \nÂ \nDonâ€™t miss it! Tune in to 710 KNUS or 1460 KZNT Colorado Spri
 ngs or online at http://www.710knus.com/ from 5 to 8 PM. Your smart ch
 oice for Sunday night radio.\nÂ \n\nFor more information visit http://
 arapahoeteaparty.ning.com/events/backbone-radio-w-matt-dunn-and-krista
 -kafer-2
DTSTART:20120826T230000Z
DTEND:20120827T020000Z
CATEGORIES:"radio show"
LOCATION:\"Radio  AM 710 KNUS\"
WEBSITE:http://www.710knus.com/
URL:http://www.710knus.com/
CONTACT:
ORGANIZER:Matt Dunn and Krista Kafer [posted by W. Branstetter]
ATTACH;FMTTYPE="image/jpeg":
ATTENDEE;ROLE=REQ-PARTICIPANT;PARTSTAT=ACCEPTED;RSVP=TRUE;CN="W. Brans
 tetter":http://arapahoeteaparty.ning.com/profile/WBranstetter
END:VEVENT
END:VCALENDAR
