BEGIN:VCALENDAR
PRODID:NingEventWidget-v1
VERSION:2.0
METHOD:PUBLISH
BEGIN:VEVENT
UID:3186561:Event:41878
DTSTAMP:20210313T183047Z
SUMMARY:Backbone Radio w/ Matt Dunn and Krista Kafer
DESCRIPTION:Radio hosts, Matt Dunn and Krista Kafer, will offer their 
 commentary on events both cultural and political.\n \n\"We have two t
 errific guests: Karen Kataline author of Fatlash! Food Police & the Fe
 ar of Thin, will tell us what happens when others, be they family memb
 ers or strangers, attempt to control our food consumption. (Hint: it d
 oesn’t work). Check out Kafer’s review of the book at http://www.c
 oloradosfutureproject.com/detail.php?c=2790297\n \nAlso, State Senato
 r Greg Brophy will fill us in on what’s happening this legislative s
 ession. We’ll toast, figuratively that is, to his new bill to legali
 ze public consumption of alcohol for 18-year-olds under parental super
 vision.\n \nQuentin Tarantino’s been a trifle testy these days in a
 nswering questions about “gun violence” in his movies. He claims m
 ovies bear no responsibility for random mass shootings in America. We
 ll talk about his latest movie, the completely irresponsible Django 
 Unchained, and its glamorization of guns. Should Tarantino get a pass?
 \n \nA new survey shows that workers in Boulder are the “unhappiest
 ” workers in all of America. How could such be the case in Colorado
 s most liberal enclave?\n \nAlso, we’ll touch on a massive snake 
 hunt in the south Florida, DNA testing of doggie doo to catch negligen
 t owners, Hagel’s nomination for Secretary of Defense and the new Ox
 ygen network reality show “All My Baby’s Mamas,” which describes
  the busy life of a former rapper who’s produced 11 children by 10 d
 ifferent mothers. Upscale entertainment to be sure.\"\n \nDon’t mis
 s it! Tune in to 710 KNUS or 1460 KZNT Colorado Springs or online at h
 ttp://www.710knus.com/ from 5 to 8 PM. Call  303-696-1071. Your smart
  choice for Sunday night radio.\n \nhttp://backboneradio.net/\n\n\nFo
 r more information visit http://arapahoeteaparty.ning.com/events/backb
 one-radio-w-matt-dunn-and-krista-kafer-19
DTSTART:20130114T000000Z
DTEND:20130114T030000Z
CATEGORIES:"radio show"
LOCATION:\"Radio  AM 710 KNUS\"
WEBSITE:http://www.710knus.com/
URL:http://www.710knus.com/
CONTACT:
ORGANIZER:Matt Dunn and Krista Kafer [posted by W. Branstetter]
ATTACH;FMTTYPE="image/jpeg":
ATTENDEE;ROLE=REQ-PARTICIPANT;PARTSTAT=ACCEPTED;RSVP=TRUE;CN="W. Brans
 tetter":http://arapahoeteaparty.ning.com/profile/WBranstetter
END:VEVENT
END:VCALENDAR
