BEGIN:VCALENDAR
PRODID:NingEventWidget-v1
VERSION:2.0
METHOD:PUBLISH
BEGIN:VEVENT
UID:3186561:Event:41765
DTSTAMP:20210313T171908Z
SUMMARY:Backbone Radio w/ Matt Dunn and Krista Kafer
DESCRIPTION:Radio hosts, Matt Dunn and Krista Kafer, will offer their 
 commentary on events both cultural and political.\n \n\"Guest former 
 Colorado Senate President John Andrews, founder of Backbone Radio, to 
 discuss the current political scene. Where can Republicans find hope r
 ight now?\n \nIt looks like a nice big storm is brewing over the pote
 ntial nomination of Republican Senator Chuck Hagel to be Obama’s Sec
 retary of Defense. Why the storm? Why would Obama choose a Republican 
 for this post? Would he be any good?\n\nA new Associated Press poll fi
 nds 64% of Americans think the government should find a solution to ob
 esity. Another personal responsibility outsourced to the government? I
 t’s a bad sign for those of us who fear the growing nanny state.\n\n
 Is America and the West in decline? The topic haunts America in 2013. 
 We’ll discuss Oswald Spengler’s book from 1918 “The Decline of t
 he West” as reviewed by Robert W. Merry in the latest issue of the A
 merican Interest. Some refer to Spengler as a pessimistic “prophet o
 f decline” -- some see him as having been spot on. Was he onto somet
 hing? If America wants to avert its decline, should it re-think its ha
 bitual foreign policy interventionism?\n\nPlus armored clothing for ch
 ildren, the pork-laden Sandy relief bill, the Obama Administration’s
  continuing War on Women, the latest on Gerard Depardieu’s tax-fligh
 t from France, the phenomenon of declining birth rates, and how Al “
 Jazeera” Gore has taken hypocrisy to new heights.\"\n \nDon’t mis
 s it! Tune in to 710 KNUS or 1460 KZNT Colorado Springs or online at h
 ttp://www.710knus.com/ from 5 to 8 PM. Call  303-696-1071. Your smart
  choice for Sunday night radio.\n \nhttp://backboneradio.net/\n\n\nFo
 r more information visit http://arapahoeteaparty.ning.com/events/backb
 one-radio-w-matt-dunn-and-krista-kafer-18
DTSTART:20130107T000000Z
DTEND:20130107T030000Z
CATEGORIES:"radio show"
LOCATION:\"Radio  AM 710 KNUS\"
WEBSITE:http://www.710knus.com/
URL:http://www.710knus.com/
CONTACT:
ORGANIZER:Matt Dunn and Krista Kafer [posted by W. Branstetter]
ATTACH;FMTTYPE="image/jpeg":
ATTENDEE;ROLE=REQ-PARTICIPANT;PARTSTAT=ACCEPTED;RSVP=TRUE;CN="W. Brans
 tetter":http://arapahoeteaparty.ning.com/profile/WBranstetter
END:VEVENT
END:VCALENDAR
