BEGIN:VCALENDAR
PRODID:NingEventWidget-v1
VERSION:2.0
METHOD:PUBLISH
BEGIN:VEVENT
UID:3186561:Event:41475
DTSTAMP:20210313T173530Z
SUMMARY:Backbone Radio w/ Matt Dunn and Krista Kafer
DESCRIPTION:Radio hosts, Matt Dunn and Krista Kafer, will offer their 
 commentary on events both cultural and political.\n \n\"Are you a fan
  of Western movies? John Wayne, Clint Eastwood, Kevin Costner? If so, 
 you won’t want to miss the next installment of Backbone Radio. We’
 ll have a stirring in-studio discussion about the Western with Ryan Mc
 Maken, author of the recent eye-popping book “Commie Cowboys: The Bo
 urgeoisie and the Nation-State in the Western Genre.”We’ll also ti
 p our ten gallon hats to Hobby Lobby for daring to defy the Obama Admi
 nistration . Last week, Supreme Court Justice Sonia Sotomayor denied t
 he company’s request for an injunction while its lawsuit is pending 
 against the birth control mandate. Hobby Lobby will continue to offer 
 health insurance for employees but will not insurance that covers abor
 tion causing drugs. In defending the owners’ 1st Amendment guarantee
 d right to conscience, the company risks a $1.3 million a day in IRS e
 xcise taxes.Conservatives have our backs up against a wall defending o
 ur most basic rights. Will we prevail? We’ll take a close look at Pr
 ofessor James Kurth’s recent article: “The Crisis of American Cons
 ervatism, Inherent Contradictions and the End of the Road.”In this m
 orning’s interview with David Gregory, President Obama says that he 
 never compares himself to Abraham Lincoln. But is that really true? We
  at Backbone beg to differ — and we’ll offer our evidence to the c
 ontrary.Should Piers Morgan be deported? Should a New York newspaper b
 e publishing the names and addresses of gun-permit holders? \"\n \nDo
 n’t miss it! Tune in to 710 KNUS or 1460 KZNT Colorado Springs or on
 line at http://www.710knus.com/ from 5 to 8 PM. Call  303-696-1071. Y
 our smart choice for Sunday night radio.\n \nhttp://backboneradio.net
 /\n\n\nFor more information visit http://arapahoeteaparty.ning.com/eve
 nts/backbone-radio-w-matt-dunn-and-krista-kafer-17
DTSTART:20121231T000000Z
DTEND:20121231T030000Z
CATEGORIES:"radio show"
LOCATION:\"Radio  AM 710 KNUS\"
WEBSITE:http://www.710knus.com/
URL:http://www.710knus.com/
CONTACT:
ORGANIZER:Matt Dunn and Krista Kafer [posted by W. Branstetter]
ATTACH;FMTTYPE="image/jpeg":
ATTENDEE;ROLE=REQ-PARTICIPANT;PARTSTAT=ACCEPTED;RSVP=TRUE;CN="william 
 h. kemman":http://arapahoeteaparty.ning.com/profile/williamhkemman
ATTENDEE;ROLE=REQ-PARTICIPANT;PARTSTAT=ACCEPTED;RSVP=TRUE;CN="W. Brans
 tetter":http://arapahoeteaparty.ning.com/profile/WBranstetter
END:VEVENT
END:VCALENDAR
