BEGIN:VCALENDAR
PRODID:NingEventWidget-v1
VERSION:2.0
METHOD:PUBLISH
BEGIN:VEVENT
UID:3186561:Event:41163
DTSTAMP:20210313T183330Z
SUMMARY:Backbone Radio w/ Matt Dunn and Krista Kafer
DESCRIPTION:Radio hosts, Matt Dunn and Krista Kafer, will offer their 
 commentary on events both cultural and political.\n \n\"There are no 
 words to express the sadness and anger we feel over the Newtown, Conne
 cticut massacre.  The holiday season seems like a tin charade against
  the grim reality of evil in our midst. We are not the first to battle
  bewilderment and cynicism at this time of the year. Charles Appleton 
 Longfellow, laid up with war injuries and grieving the loss of his wif
 e, penned these words on Christmas Day during the darkest days of the 
 Civil War:\n \nAnd in despair I bowed my head; \"There is no peace on
  earth,\" I said;\n\"For hate is strong, And mocks the song Of peace o
 n earth, good-will to men!\"\n \nThen pealed the bells more loud and 
 deep: \"God is not dead, nor doth He sleep; The Wrong shall fail, The 
 Right prevail, With peace on earth, good-will to men.\"\nWe’ll talk 
 with Dr. Doug Groothius, Denver Seminary professor about the meaning o
 f Christmas and where we might find hope at such a time as this.\n \n
 We’ll also discuss America’s declining birth rate. Some say it ref
 lects America’s increasing “decadence.” Could that be the case?\
 nWould former Republican Senator Chuck Hagel make a good Secretary of 
 Defense? What are we to make of PSY, Korean rapper of “Gangnam Style
 ,” and his controversial views on American foreign policy? Is it unp
 atriotic of Gerard Depardieu, the famous French actor, to flee his hom
 e country to avoid paying the new socialist taxes?\"\n \nDon’t miss
  it! Tune in to 710 KNUS or 1460 KZNT Colorado Springs or online at ht
 tp://www.710knus.com/ from 5 to 8 PM. Call  303-696-1071. Your smart 
 choice for Sunday night radio.\n \nhttp://backboneradio.net/\n\n\nFor
  more information visit http://arapahoeteaparty.ning.com/events/backbo
 ne-radio-w-matt-dunn-and-krista-kafer-16
DTSTART:20121217T000000Z
DTEND:20121217T030000Z
CATEGORIES:"radio show"
LOCATION:\"Radio  AM 710 KNUS\"
WEBSITE:http://www.710knus.com/
URL:http://www.710knus.com/
CONTACT:
ORGANIZER:Matt Dunn and Krista Kafer [posted by W. Branstetter]
ATTACH;FMTTYPE="image/jpeg":
ATTENDEE;ROLE=REQ-PARTICIPANT;PARTSTAT=ACCEPTED;RSVP=TRUE;CN="W. Brans
 tetter":http://arapahoeteaparty.ning.com/profile/WBranstetter
END:VEVENT
END:VCALENDAR
