BEGIN:VCALENDAR
PRODID:NingEventWidget-v1
VERSION:2.0
METHOD:PUBLISH
BEGIN:VEVENT
UID:3186561:Event:41070
DTSTAMP:20210313T175358Z
SUMMARY:Backbone Radio w/ Matt Dunn and Krista Kafer
DESCRIPTION:Radio hosts, Matt Dunn and Krista Kafer, will offer their 
 commentary on events both cultural and political.\n \n\"Many in the R
 epublican Party are saying it’s time to embrace amnesty for illegal 
 immigrants.  They insist that the only way to draw Hispanic voters to
  the GOP is to grant the11 million resident illegal immigrants citizen
 ship and take this sticky issue off the table for good. Critics point 
 out that the last amnesty program didn’t settle the matter and a new
  amnesty push will just leave the door open for another.  Could there
  be another way to solve the immigration conundrum while respecting th
 e rule of law and national borders?\n \nIndeed there is and Helen Kri
 eble, founder and president of the Vernon K. Krieble Foundation and au
 thor of the Red Card Solution will tell us all about it.\n\nWe’ll al
 so talk with Ben DeGrow of the Independence Institute about how teache
 rs can opt out of paying dues for union political causes. The deadline
  is December 15 for teachers to apply for a refund of around $63. That
 ’ll buy a few toys for under the Christmas tree and some peace of mi
 nd knowing that you aren’t funding causes and candidates you don’t
  support.\n\nSpeaking of Christmas trees and holiday cheer, some not-s
 o-merry Grinches are doing their small hearted best to stifle celebrat
 ions across the fruited plain. In Rhode Island, Governor Lincoln Chaff
 ee stands by his renaming the State House spruce as the Holiday Tree a
 nd made sure that no flash mob of carolers would turn up to sing “O 
 Christmas Tree” like they did last year. On the other coast, a less-
 than-festive group of atheists successfully ended a sixty year old nat
 ivity display in Palisades Park. Is it a lack of creativity in coming 
 up with their own holidays or just mean spiritedness that makes some a
 theists just want to destroy other’s beloved traditions?\n\nWe’ll 
 also talk about leadership change at the Heritage Foundation, the high
  life in Washington which, along with our very own state, legalized ma
 rijuana, and how to turn your pet into a diamond. Got opinions? Though
 ts? Call into the program at 303-696-1971.\"\n \nDon’t miss it! Tun
 e in to 710 KNUS or 1460 KZNT Colorado Springs or online at http://www
 .710knus.com/ from 5 to 8 PM. Call  303-696-1071. Your smart choice f
 or Sunday night radio.\n \nhttp://backboneradio.net/\n\n\nFor more in
 formation visit http://arapahoeteaparty.ning.com/events/backbone-radio
 -w-matt-dunn-and-krista-kafer-15
DTSTART:20121210T000000Z
DTEND:20121210T030000Z
CATEGORIES:"radio show"
LOCATION:\"Radio  AM 710 KNUS\"
WEBSITE:http://www.710knus.com/
URL:http://www.710knus.com/
CONTACT:
ORGANIZER:Matt Dunn and Krista Kafer [posted by W. Branstetter]
ATTACH;FMTTYPE="image/jpeg":
ATTENDEE;ROLE=REQ-PARTICIPANT;PARTSTAT=ACCEPTED;RSVP=TRUE;CN="W. Brans
 tetter":http://arapahoeteaparty.ning.com/profile/WBranstetter
END:VEVENT
END:VCALENDAR
