BEGIN:VCALENDAR
PRODID:NingEventWidget-v1
VERSION:2.0
METHOD:PUBLISH
BEGIN:VEVENT
UID:3186561:Event:40870
DTSTAMP:20210313T175408Z
SUMMARY:Backbone Radio w/ Matt Dunn and Krista Kafer
DESCRIPTION:Radio hosts, Matt Dunn and Krista Kafer, will offer their 
 commentary on events both cultural and political.\n \n\"If there is o
 ne core conviction that holds the Republican Party together, it is the
  view that the private sector — not the government sector — can sa
 ve the economy. If there is one prevailing certainty in the Mainstream
  Media, it is that no matter what happens in the approach to the Fisca
 l Cliff, Republicans shall take the blame for whatever happens next.\n
 In our view, the above revelation should liberate the Republicans to j
 ust go ahead and be Republicans. In the choice between hanging togethe
 r, hanging apart, or hanging tough on taxes — we know what we recomm
 end.\n\nAdditionally, we’ll have two terrific guests: we’ll talk w
 ith Dave Kerber, recent candidate for Senate District 26, on the ugly 
 campaign tactics used by the Left. After accusing Kerber and other Rep
 ublicans of being pro-cancer this election, what will they do in 2014?
  It’s not like the Left can go any lower.\n\nWe’ll also hear from 
 Jamie Gass of the Pioneer Institute about an important upcoming event 
 on national education standards at Independence Institute on December 
 6th: Common Core’s Race to the Middle. What exactly is going on in o
 ur state’s schools?\nWe’ll take a look at Susan Rice and the alleg
 ed racism of her critics, we’ll assess the fate of Liberal Arts educ
 ation at American colleges, and we’ll explore the meaning of the rec
 ent boomlet in secessionistic thinking. Plus we’ll offer some reflec
 tions on the Ken Burns “Dust Bowl” documentary, the apparently inv
 erted “gender gap” in Colorado, and recent research on “gentlema
 nly behavior.”\"\n \nDon’t miss it! Tune in to 710 KNUS or 1460 K
 ZNT Colorado Springs or online at http://www.710knus.com/ from 5 to 8 
 PM. Call  303-696-1071. Your smart choice for Sunday night radio.\n 
 \nhttp://backboneradio.net/\n\n\nFor more information visit http://ara
 pahoeteaparty.ning.com/events/backbone-radio-w-matt-dunn-and-krista-ka
 fer-14
DTSTART:20121203T000000Z
DTEND:20121203T030000Z
CATEGORIES:"radio show"
LOCATION:\"Radio  AM 710 KNUS\"
WEBSITE:http://www.710knus.com/
URL:http://www.710knus.com/
CONTACT:
ORGANIZER:Matt Dunn and Krista Kafer [posted by W. Branstetter]
ATTACH;FMTTYPE="image/jpeg":
ATTENDEE;ROLE=REQ-PARTICIPANT;PARTSTAT=ACCEPTED;RSVP=TRUE;CN="W. Brans
 tetter":http://arapahoeteaparty.ning.com/profile/WBranstetter
END:VEVENT
END:VCALENDAR
