BEGIN:VCALENDAR
PRODID:NingEventWidget-v1
VERSION:2.0
METHOD:PUBLISH
BEGIN:VEVENT
UID:3186561:Event:40561
DTSTAMP:20210313T181410Z
SUMMARY:Backbone Radio w/ Matt Dunn and Krista Kafer
DESCRIPTION:Radio hosts, Matt Dunn and Krista Kafer, will offer their 
 commentary on events both cultural and political.\n \n\"\nHaving spen
 t the last few days giving thanks for our many blessings, we’ll take
  a moment to survey the larger American trajectory. How are we doing? 
 Are we a nation in decline?\n\nWe’ll talk with Nicolas Eberstadt of 
 the American Enterprise Institute about his new book A Nation of Taker
 s about what it means when half of a nation’s citizens are receiving
  government funding of one kind or another. What does that mean for th
 e economy and even more critically, the culture and the nation’s fut
 ure?\nWe’ll discuss the epiphenomenon of post-election Romney bashin
 g from within GOP circles. What gives? Is any of it deserved? We’ll 
 talk about Governor Chris Christie, another individual who’s taken r
 ecent heat. Is he finished on the national stage?\n\nHow are Grover No
 rquist’s tax pledge and pledgers holding up under significant pressu
 re to raise taxes? Will they take a stand or capitulate to the Preside
 nt and Harry Reid? Are we sailing over the fiscal cliff in this ship o
 f fools?\nMatt will give us a review of Steven Spielberg’s new movie
  “Lincoln.” Was it an accurate portrayal of our 16th President? He
  was struck by Tommy Lee Jones’ excellent portrayal of radical aboli
 tionist Thaddeus Stevens. Who was this fire-breathing Stevens, and wha
 t was his role in the Civil War?\n\nPlus we’ll review Ron Paul’s f
 arewell, theories of justice in Bolivia, and how America views Tim Teb
 ow. And just wondering -- when Obama calls upon “the rich” to pay 
 their “fair share” of taxes, where lies the fairness threshold?\"\
 n \nDon’t miss it! Tune in to 710 KNUS or 1460 KZNT Colorado Spring
 s or online at http://www.710knus.com/ from 5 to 8 PM. Call  303-696-
 1071. Your smart choice for Sunday night radio.\n \nhttp://backbonera
 dio.net/\n\n\nFor more information visit http://arapahoeteaparty.ning.
 com/events/backbone-radio-w-matt-dunn-and-krista-kafer-13
DTSTART:20121126T000000Z
DTEND:20121126T030000Z
CATEGORIES:"radio show"
LOCATION:\"Radio  AM 710 KNUS\"
WEBSITE:http://www.710knus.com/
URL:http://www.710knus.com/
CONTACT:
ORGANIZER:Matt Dunn and Krista Kafer [posted by W. Branstetter]
ATTACH;FMTTYPE="image/jpeg":
ATTENDEE;ROLE=REQ-PARTICIPANT;PARTSTAT=ACCEPTED;RSVP=TRUE;CN="W. Brans
 tetter":http://arapahoeteaparty.ning.com/profile/WBranstetter
END:VEVENT
END:VCALENDAR
