BEGIN:VCALENDAR
PRODID:NingEventWidget-v1
VERSION:2.0
METHOD:PUBLISH
BEGIN:VEVENT
UID:3186561:Event:40556
DTSTAMP:20210313T175324Z
SUMMARY:Backbone Radio w/ Matt Dunn and Krista Kafer
DESCRIPTION:Radio hosts, Matt Dunn and Krista Kafer, will offer their 
 commentary on events both cultural and political.\n \n\"As we set abo
 ut the task of regrouping and reconstituting amidst the realities of a
  “fundamentally transformed” America -- in our post-Twinkie world 
 – Backbone Radio will be joined in studio by two spectacular guests 
 for tonight’s show.\n\nWe’ll visit with Congressman Tom Tancredo t
 o check his opinions of Obama’s victory, Romney’s defeat and the o
 verall trajectory of the Republican Party. Where do we go from here? I
 s this the hour for amnesty? And what does Colorado’s passage of Ame
 ndment 64 really mean\n\nWe’ll also talk with Professor Thomas Krann
 awitter, noted Lincoln scholar and author of Vindicating Lincoln, abou
 t Steven Spielberg’s new movie “Lincoln.” We’ll find out how t
 he good professor grades Hollywood’s rendition of the noble final ye
 ar of Lincoln’s life.\n\nMatt saw the movie last night, and fully en
 joyed his few hours in the company of Honest Abe. He’ll take a littl
 e look at how well (or not well) the current president-elect measures 
 up to the standards of the 16th President of the United States.\n\nPlu
 s we’ll discuss Ron Paul’s farewell, Chris Christie’s verbosity,
  the dwindling Remnant, Minivans and more.\n\nBe sure to \"like\" us o
 n Facebook!\"\n \nDon’t miss it! Tune in to 710 KNUS or 1460 KZNT C
 olorado Springs or online at http://www.710knus.com/ from 5 to 8 PM. C
 all  303-696-1071. Your smart choice for Sunday night radio.\n \nhtt
 p://backboneradio.net/\n\n\nFor more information visit http://arapahoe
 teaparty.ning.com/events/backbone-radio-w-matt-dunn-and-krista-kafer-1
 2
DTSTART:20121119T000000Z
DTEND:20121119T030000Z
CATEGORIES:"radio show"
LOCATION:\"Radio  AM 710 KNUS\"
WEBSITE:http://www.710knus.com/
URL:http://www.710knus.com/
CONTACT:
ORGANIZER:Matt Dunn and Krista Kafer [posted by W. Branstetter]
ATTACH;FMTTYPE="image/jpeg":
ATTENDEE;ROLE=REQ-PARTICIPANT;PARTSTAT=ACCEPTED;RSVP=TRUE;CN="W. Brans
 tetter":http://arapahoeteaparty.ning.com/profile/WBranstetter
END:VEVENT
END:VCALENDAR
