BEGIN:VCALENDAR
PRODID:NingEventWidget-v1
VERSION:2.0
METHOD:PUBLISH
BEGIN:VEVENT
UID:3186561:Event:40705
DTSTAMP:20210313T181137Z
SUMMARY:Backbone Radio w/ Matt Dunn and Krista Kafer
DESCRIPTION:Radio hosts, Matt Dunn and Krista Kafer, will offer their 
 commentary on events both cultural and political.\n \n\"The hosts of 
 Backbone Radio wish you a Happy Veterans Day and a heartfelt thank you
  to all the men and women who have served our nation in our armed forc
 es. To commemorate Veterans Day, previously called Armistice Day in re
 cognition of the end of the World War I, we’ll be talking with Andy 
 Parks of the Vintage Aero Flying Museum about his collection of WWI an
 d WWII planes and artifacts. \n\nWe’ll also revisit the latest batt
 le in the war of ideas with political veteran (and US Navy veteran) Jo
 hn Andrews.  Though it will take some time to process the reasons for
  Romney’s defeat, we’ll take a cold hard look across the spectrum.
 \n\nWhat happened on Tuesday night? And where do we go from here?\n\nW
 as it amnesty? Was it demographics? Was it class warfare? Was it the w
 ar on women? Was it Sandy? Was it Christie? Was it Romney?\n\nIt is a 
 time for soul-searching, a time to ask heavy questions. We’ll start 
 searching, and start asking -- and begin the process of regrouping.\n\
 nIt was a stoic Marcus Aurelius who once said: “There are many bitte
 r pills, but we welcome them in hope of health.”\n\nWe’re not read
 y to conduct an autopsy on conservatism just yet — we shall rise aga
 in in good health — but we need to do some serious thinking before w
 e do so. We invite your calls at 303-696-1971. Like us on Facebook!\"\
 n \nDon’t miss it! Tune in to 710 KNUS or 1460 KZNT Colorado Spring
 s or online at http://www.710knus.com/ from 5 to 8 PM. Call  303-696-
 1071. Your smart choice for Sunday night radio.\n \nhttp://backbonera
 dio.net/\n\n\nFor more information visit http://arapahoeteaparty.ning.
 com/events/backbone-radio-w-matt-dunn-and-krista-kafer-11
DTSTART:20121112T000000Z
DTEND:20121112T030000Z
CATEGORIES:"radio show"
LOCATION:\"Radio  AM 710 KNUS\"
WEBSITE:http://www.710knus.com/
URL:http://www.710knus.com/
CONTACT:
ORGANIZER:Matt Dunn and Krista Kafer [posted by W. Branstetter]
ATTACH;FMTTYPE="image/jpeg":
ATTENDEE;ROLE=REQ-PARTICIPANT;PARTSTAT=ACCEPTED;RSVP=TRUE;CN="W. Brans
 tetter":http://arapahoeteaparty.ning.com/profile/WBranstetter
END:VEVENT
END:VCALENDAR
