BEGIN:VCALENDAR
PRODID:NingEventWidget-v1
VERSION:2.0
METHOD:PUBLISH
BEGIN:VEVENT
UID:3186561:Event:40522
DTSTAMP:20210313T173035Z
SUMMARY:Backbone Radio w/ Matt Dunn and Krista Kafer
DESCRIPTION:Radio hosts, Matt Dunn and Krista Kafer, will offer their 
 commentary on events both cultural and political.\n \n\"It’s tense,
  it’s tight, and it’s instructive indeed to compare the ways Romne
 y and Obama are respectively closing out their campaigns. \nWe’ll ta
 lk with political veteran Dick Wadhams about what he thinks will happe
 n on Tuesday between the Chicago school of politicking and the more Re
 aganesque Romney camp.\"\n \n \n \nDid you see Krista Kafer's edito
 rial?  http://www.denverpost.com/opinion/ci_21898568/higher-road-publ
 ic-persuasion\n \nRomney was at Fiddler's Green Saturday before a cap
 acity crowd of 17,000.  It seems that Steve Kelley from 710 KNUS set 
 a record 33 hours in a swing for the lead-in to the event.\n \nOf cou
 rse, Krista and Matt will talk about Hurricane Sandy throwing sand int
 o the works.\n \nIf you are not at the Paul Ryan event in Castle Rock
 , tune in to the program.\n \nDon’t miss it! Tune in to 710 KNUS or
  1460 KZNT Colorado Springs or online at http://www.710knus.com/ from 
 5 to 8 PM. Call  303-696-1071. Your smart choice for Sunday night rad
 io.\n \nhttp://backboneradio.net/\n\n\nFor more information visit htt
 p://arapahoeteaparty.ning.com/events/backbone-radio-w-matt-dunn-and-kr
 ista-kafer-10
DTSTART:20121105T000000Z
DTEND:20121105T030000Z
CATEGORIES:"radio show"
LOCATION:\"Radio  AM 710 KNUS\"
WEBSITE:http://www.710knus.com/
URL:http://www.710knus.com/
CONTACT:
ORGANIZER:Matt Dunn and Krista Kafer [posted by W. Branstetter]
ATTACH;FMTTYPE="image/jpeg":
ATTENDEE;ROLE=REQ-PARTICIPANT;PARTSTAT=ACCEPTED;RSVP=TRUE;CN="W. Brans
 tetter":http://arapahoeteaparty.ning.com/profile/WBranstetter
END:VEVENT
END:VCALENDAR
