BEGIN:VCALENDAR
PRODID:NingEventWidget-v1
VERSION:2.0
METHOD:PUBLISH
BEGIN:VEVENT
UID:3186561:Event:38435
DTSTAMP:20210313T173042Z
SUMMARY:Backbone Radio w/ Matt Dunn and Krista Kafer
DESCRIPTION:Radio hosts, Matt Dunn and Krista Kafer, will offer their 
 commentary on events both cultural and political.\n \nGuests:\n \nCo
 ngressman Cory Gardner (CD4) \"has introduced the Making College Affor
 dable Act to increase the tax exempt contribution to a Coverdell Educa
 tion Savings Account from $2,000 annually to $10,000. Given the rising
  cost of college tuition, this bill, if passed, will help countless Am
 erican families save for college. In addition to hearing about the col
 lege savings bill, we’ll ask Congressman Gardner why he voted to ext
 end the current tax rates.\"\n \nJim Nicholson served as Secretary of
  Veterans Affairs and U.S. Ambassador to the Holy See under the Bush A
 dministration. He has also served as the Chairman of the Republican Na
 tional Committee.  Secretary Nicholson is using his political, diplom
 atic and legal experience to champion Americans’ rights of conscienc
 e and religious freedom.  Does he think that Americans will prevail a
 gainst the current attack on their rights or will they lose to powerfu
 l interests?\n \nOther topics:\n \nChick-fil-A\nSenator Harry Reid (
 NV) and \"Week of Overreach\"\nthe passing of author Gore Vidal\nunemp
 loyment numbers\na piece of 2,500-year-old chocolate found by archeol
 ogists\n \n\"Dunn also has some crazy ideas for baby names as he anti
 cipates the upcoming birth of a son.\"\n \nDon’t miss it! Tune in t
 o 710 KNUS or 1460 KZNT Colorado Springs or online at http://www.710kn
 us.com/ from 5 to 8 PM. Your smart choice for Sunday night radio.\n \
 n\nFor more information visit http://arapahoeteaparty.ning.com/events/
 backbone-radio-w-matt-dunn-and-krista-kafer-1
DTSTART:20120805T230000Z
DTEND:20120806T020000Z
CATEGORIES:"radio show"
LOCATION:\"Radio  AM 710 KNUS\"
WEBSITE:http://www.710knus.com/
URL:http://www.710knus.com/
CONTACT:
ORGANIZER:Matt Dunn and Krista Kafer [posted by W. Branstetter]
ATTACH;FMTTYPE="image/jpeg":
ATTENDEE;ROLE=REQ-PARTICIPANT;PARTSTAT=TENTATIVE;RSVP=TRUE;CN="W. Bran
 stetter":http://arapahoeteaparty.ning.com/profile/WBranstetter
END:VEVENT
END:VCALENDAR
