BEGIN:VCALENDAR
PRODID:NingEventWidget-v1
VERSION:2.0
METHOD:PUBLISH
BEGIN:VEVENT
UID:3186561:Event:55542
DTSTAMP:20210313T193314Z
SUMMARY:Backbone Radio w/ Matt Dunn
DESCRIPTION:Radio host Matt Dunn will offer commentary on events both 
 cultural and political.\n\n Matt has guests and topics of interest so
  tune in Sundays 5:00 p.m. to 8:00 p.m.  Tune in.\n \nDon’t miss i
 t! Tune in to 710 KNUS or 1460 KZNT Colorado Springs or online at http
 ://www.710knus.com/ from 5 to 8 PM. Call  303-696-1071. Your smart ch
 oice for Sunday night radio.\n \nhttp://backboneradio.net/\n https://
 www.facebook.com/BackboneRadio\n Podcasts for the program can be found
  at the web pages of 710 KNUS:  http://www.710knus.com/\n\n\n\nFor mor
 e information visit http://arapahoeteaparty.ning.com/events/backbone-r
 adio-w-matt-dunn-686
DTSTART:20151109T000000Z
DTEND:20151109T030000Z
CATEGORIES:"radio show"
LOCATION:\"Radio  AM 710 KNUS\"
WEBSITE:http://www.710knus.com/
URL:http://www.710knus.com/
CONTACT:
ORGANIZER:Matt Dunn [posted by W. Branstetter]
ATTACH;FMTTYPE="image/jpeg":
ATTENDEE;ROLE=REQ-PARTICIPANT;PARTSTAT=ACCEPTED;RSVP=TRUE;CN="W. Brans
 tetter":http://arapahoeteaparty.ning.com/profile/WBranstetter
END:VEVENT
END:VCALENDAR
