BEGIN:VCALENDAR
PRODID:NingEventWidget-v1
VERSION:2.0
METHOD:PUBLISH
BEGIN:VEVENT
UID:3186561:Event:54689
DTSTAMP:20210313T175601Z
SUMMARY:Backbone Radio w/ Matt Dunn
DESCRIPTION:Radio host Matt Dunn will offer commentary on events both 
 cultural and political.\n\n Matt has guests and topics of interest so
  tune in Sundays 5:00 p.m. to 8:00 p.m.  [Note that he has been at th
 e Western Conservative Summit in Denver so he will probably have a rep
 ort and perhaps some recorded interviews.]  Tune in.\n \nDon’t mis
 s it! Tune in to 710 KNUS or 1460 KZNT Colorado Springs or online at h
 ttp://www.710knus.com/ from 5 to 8 PM. Call  303-696-1071. Your smart
  choice for Sunday night radio.\n \nhttp://backboneradio.net/\n https
 ://www.facebook.com/BackboneRadio\n Podcasts for the program can be fo
 und at the web pages of 710 KNUS:  http://www.710knus.com/\n\n\n\nFor 
 more information visit http://arapahoeteaparty.ning.com/events/backbon
 e-radio-w-matt-dunn-558
DTSTART:20150628T230000Z
DTEND:20150629T020000Z
CATEGORIES:"radio show"
LOCATION:\"Radio  AM 710 KNUS\"
WEBSITE:http://www.710knus.com/
URL:http://www.710knus.com/
CONTACT:
ORGANIZER:Matt Dunn [posted by W. Branstetter]
ATTACH;FMTTYPE="image/jpeg":
ATTENDEE;ROLE=REQ-PARTICIPANT;PARTSTAT=ACCEPTED;RSVP=TRUE;CN="W. Brans
 tetter":http://arapahoeteaparty.ning.com/profile/WBranstetter
END:VEVENT
END:VCALENDAR
