BEGIN:VCALENDAR
PRODID:NingEventWidget-v1
VERSION:2.0
METHOD:PUBLISH
BEGIN:VEVENT
UID:3186561:Event:55772
DTSTAMP:20210313T172419Z
SUMMARY:Backbone Radio w/ guest host Randy Corporon
DESCRIPTION:Radio host Matt Dunn is letting Randy Corporon guest host 
 and offer commentary on events both cultural and political--especially
  the 6:00 p.m. MT presidential address.\n\nTje show always has guests 
 and topics of interest so tune in Sundays 5:00 p.m. to 8:00 p.m.  Tun
 e in.\n \nDon’t miss it! Tune in to 710 KNUS or 1460 KZNT Colorado 
 Springs or online at http://www.710knus.com/ from 5 to 8 PM. Call  30
 3-696-1071. Your smart choice for Sunday night radio.\n \nhttp://back
 boneradio.net/\n https://www.facebook.com/BackboneRadio\n Podcasts for
  the program can be found at the web pages of 710 KNUS:  http://www.71
 0knus.com/\n\n\n\nFor more information visit http://arapahoeteaparty.n
 ing.com/events/backbone-radio-w-guest-host-randy-corporon
DTSTART:20151207T000000Z
DTEND:20151207T030000Z
CATEGORIES:"radio show"
LOCATION:\"Radio  AM 710 KNUS\"
WEBSITE:http://www.710knus.com/
URL:http://www.710knus.com/
CONTACT:
ORGANIZER:Matt Dunn [posted by W. Branstetter]
ATTACH;FMTTYPE="image/jpeg":
ATTENDEE;ROLE=REQ-PARTICIPANT;PARTSTAT=ACCEPTED;RSVP=TRUE;CN="W. Brans
 tetter":http://arapahoeteaparty.ning.com/profile/WBranstetter
END:VEVENT
END:VCALENDAR
