BEGIN:VCALENDAR
PRODID:NingEventWidget-v1
VERSION:2.0
METHOD:PUBLISH
BEGIN:VEVENT
UID:3186561:Event:23475
DTSTAMP:20210313T174919Z
SUMMARY:Backbone Radio (Ross Kaminsky returns)
DESCRIPTION:Ross Kaminsky has returned from a trip to South Africa and
  what a week to return to!  Tune in for Ross's comments on the week's
  gyrations.\n \nFirst hour guest:  Tony Blankley (an author, politic
 al commentator, press secretary for Newt Gingrich, etc.)\n \nThird ho
 ur guest:  Ambassador James Glassman\n \nRoss writes so much better 
 so for more outline of the program refer to:\nhttp://backboneradio.net
 /\n \nCheck it out.\n \n \n \n\nFor more information visit http://
 arapahoeteaparty.ning.com/events/backbone-radio-ross-kaminsky-returns
DTSTART:20110814T230000Z
DTEND:20110815T020000Z
CATEGORIES:"radio show"
LOCATION:710 AM KNUS Denver and 1460 AM KZNT Colorado Springs
WEBSITE:http://backboneradio.net/
URL:http://backboneradio.net/
CONTACT:radio show (303) 696-1971
ORGANIZER:posted by W. Branstetter
ATTACH;FMTTYPE="image/jpeg":
ATTENDEE;ROLE=REQ-PARTICIPANT;PARTSTAT=ACCEPTED;RSVP=TRUE;CN="W. Brans
 tetter":http://arapahoeteaparty.ning.com/profile/WBranstetter
END:VEVENT
END:VCALENDAR
