BEGIN:VCALENDAR
PRODID:NingEventWidget-v1
VERSION:2.0
METHOD:PUBLISH
BEGIN:VEVENT
UID:3186561:Event:26062
DTSTAMP:20210313T173315Z
SUMMARY:Backbone Radio -- Ross and guest John Andrews
DESCRIPTION:Ross Kaminsky will have Backbone Radio founder John Andrew
 s in the studio for the show.  Discussion items will include the 9/11
  10th anniversary, the recent GOP debate, and the President's \"Jobs S
 peech.\"\n \nhttp://backboneradio.net/\n \nhttp://www.710knus.com/\n
  \n\nFor more information visit http://arapahoeteaparty.ning.com/even
 ts/backbone-radio-ross-and-guest-john-andrews
DTSTART:20110911T230000Z
DTEND:20110912T020000Z
CATEGORIES:radio
LOCATION:710 KNUS AM or internet
WEBSITE:http://backboneradio.net/
URL:http://backboneradio.net/
CONTACT:studio:  (303) 696-1971
ORGANIZER:[posted by W. Branstetter]
ATTACH;FMTTYPE="image/jpeg":
ATTENDEE;ROLE=REQ-PARTICIPANT;PARTSTAT=ACCEPTED;RSVP=TRUE;CN="W. Brans
 tetter":http://arapahoeteaparty.ning.com/profile/WBranstetter
END:VEVENT
END:VCALENDAR
