BEGIN:VCALENDAR
PRODID:NingEventWidget-v1
VERSION:2.0
METHOD:PUBLISH
BEGIN:VEVENT
UID:3186561:Event:28068
DTSTAMP:20210313T174020Z
SUMMARY:Backbone Radio:  guests Fred Ciruli, J. Christian Adams, Senat
 or Greg Brophy
DESCRIPTION:Ross Kaminsky has another great line-up for Backbone Radio
  for Sunday evening.  This week's current events of themselves would 
 provide sufficient fodder for chewing on, but the guests will include:
 \n \n5:00 p.m. hour -- Fred Ciruli, Colorado-based pollster and poli
 tical analyst, will join Ross for a discussion of \"Republican field a
 nd what the incredibly-shrinking President Obama will likely resort to
  in order to win reelection. (Can you say \"class warfare\"?)\"\n \n6
 :00 p.m. hour -- J. Christian Adams will make a return to the show an
 d this time will be talking about his book Injustice: Exposing the Rac
 ial Agenda of the Obama Justice Department.  This segment should cove
 r some of the high or low points of how Eric Holder runs Department o
 f Justice.\n \n7:00 p.m. hour -- State Senator Greg Brophy will be in
  the studio to discuss changes in the leadership of the state GOP and 
 comment on the leadership or weakness of the governor and Denver mayor
  regarding the \"Occupy Denver\" situation.\n \nJoin Ross for the dis
 cussion at 710 KNUS AM in Denver or 1460 KZNT AM Colorado Springs.  C
 all the studio at (303) 696-1971.\n \nCheck out:  http://backbonerad
 io.net/\n \nListen on-line:  http://www.710knus.com/\n \n \n \n\n
 For more information visit http://arapahoeteaparty.ning.com/events/bac
 kbone-radio-guests-fred-ciruli-j-christian-adams-senator-greg-
DTSTART:20111016T230000Z
DTEND:20111017T020000Z
CATEGORIES:"talk radio"
LOCATION:710 KNUS or 1460 KZNT
WEBSITE:http://backboneradio.net/
URL:http://backboneradio.net/
CONTACT:(303) 696-1971
ORGANIZER:posted by W. Branstetter
ATTACH;FMTTYPE="image/jpeg":
ATTENDEE;ROLE=REQ-PARTICIPANT;PARTSTAT=ACCEPTED;RSVP=TRUE;CN="W. Brans
 tetter":http://arapahoeteaparty.ning.com/profile/WBranstetter
END:VEVENT
END:VCALENDAR
