BEGIN:VCALENDAR
PRODID:NingEventWidget-v1
VERSION:2.0
METHOD:PUBLISH
BEGIN:VEVENT
UID:3186561:Event:27565
DTSTAMP:20210313T175108Z
SUMMARY:Backbone Radio:  \"diversity bake sale\" and more
DESCRIPTION:This week Ross Kaminsky has a diverse line up of topics co
 vering the week's news.  It should be lively and informative.\n \n5:
 15 p.m.  Shawn Lewis, President of the College Republicans at UC Ber
 kley, where the \"diversity bake sale\" was held to call attention to 
 a proposed California law.\n \n5:30 p.m.  Victor Mitchell of Save Co
 lorado Jobs will be talking about Propostion 103 which is the statewid
 e ballot issue for tax increase.\n \n6:30 - 8:00 p.m.  Congressman V
 irgil Goode (R-VA) will be in the studio for a wide ranging discussion
  of issues.\n \nCheck out the show.  Call the studio at (303) 696-19
 71.\n \nThe complete outline and links to information about the guest
 s and topics can be found at:\n \nhttp://backboneradio.net/\n \nhttp
 ://www.710knus.com/\n \n \n\nFor more information visit http://arapa
 hoeteaparty.ning.com/events/backbone-radio-diversity-bake-sale-and-mor
 e
DTSTART:20111002T230000Z
DTEND:20111003T020000Z
CATEGORIES:"talk radio"
LOCATION:radio 710 KNUS AM and 1460 KZNT AM or internet
WEBSITE:http://backboneradio.net/
URL:http://backboneradio.net/
CONTACT:studio (303) 696-1971
ORGANIZER:posted by W. Branstetter
ATTACH;FMTTYPE="image/jpeg":
ATTENDEE;ROLE=REQ-PARTICIPANT;PARTSTAT=ACCEPTED;RSVP=TRUE;CN="W. Brans
 tetter":http://arapahoeteaparty.ning.com/profile/WBranstetter
END:VEVENT
END:VCALENDAR
