BEGIN:VCALENDAR
PRODID:NingEventWidget-v1
VERSION:2.0
METHOD:PUBLISH
BEGIN:VEVENT
UID:3186561:Event:49969
DTSTAMP:20210313T182836Z
SUMMARY:Aurora Republican Forum
DESCRIPTION:Aurora Republican Forum meets once a month on the fourth S
 aturday near I-225 and Iliff Avenue for coffee and donuts and a speake
 r ($5.00[?]).  Their next meeting is Saturday, April 26, 2014.\n\nIf 
 you are looking for a way to make connections and learn about people, 
 candidates, or issues on a weekend, visit this group.\n\nAurora Republ
 ican Forum\n\n13521 East Iliff Avenue\n Aurora, CO 80014\n\n\nApril 2
 6, 2014 -- 8:30 AM - 10:00 AM\n\nNoonan’s Restaurant\n\n[near Heathe
 ridge Golf Course]\nnear I-225 and Iliffe Avenue\n\n\n\n\nhttp://www.a
 rapahoerepublicans.org/events/event/cgrnahy3y3zuamf1mdd2cgtmc25mcxrna3
 nfmjaxnda0mjzumtqzmdawwibldmvudhnayxjhcgfob2vyzxb1ymxpy2fucy5uzxq/1?en
 d=1398524400&start=1398519000\n\nMap available at:\n\nhttp://aurorarep
 ublicanforum.com/\n\n\n\n\nFor more information visit http://arapahoet
 eaparty.ning.com/events/aurora-republican-forum
DTSTART:20140426T143000Z
DTEND:20140426T160000Z
CATEGORIES:meeting
LOCATION:Noonan’s Restaurant
WEBSITE:http://aurorarepublicanforum.com/
URL:http://aurorarepublicanforum.com/
CONTACT:
ORGANIZER:posted by W. Branstetter
ATTACH;FMTTYPE="image/jpeg":
ATTENDEE;ROLE=REQ-PARTICIPANT;PARTSTAT=TENTATIVE;RSVP=TRUE;CN="W. Bran
 stetter":http://arapahoeteaparty.ning.com/profile/WBranstetter
END:VEVENT
END:VCALENDAR
