BEGIN:VCALENDAR
PRODID:NingEventWidget-v1
VERSION:2.0
METHOD:PUBLISH
BEGIN:VEVENT
UID:3186561:Event:47708
DTSTAMP:20210313T173323Z
SUMMARY:Aurora Public School Board Candidate Forum
DESCRIPTION:Aurora Public School Board Candidate Forum\n \nThe Aurora
  Public Schools Board of Education will host a school board candidate 
 forum. The League of Women Voters of Arapahoe County will moderate. Ca
 ndidates will answer questions at this event, which is free and open t
 o the public.\n \nWednesday, October 16 at  6:30 - 8:00 p.m.\nGatewa
 y High School\nLecture Hall\n1300 S. Sable Blvd.\nAurora, CO 80012\n 
 \nFour of the seven 4-year positions, which are elected at-large, are 
 up for election this year. These positions are currently held by Jane 
 Barber, Jeanette Carmany, Matt Cook, and JulieMarie Shepherd. The five
  candidates for these seats are:\n \nJasper Armstrong, an educator wh
 o currently works as a youth intervention specialist\n \nAmber Drevon
 , a parent and martial arts instructor\n \nEric Nelson, a CSU profess
 or\n \nJulieMarie Shepherd, the current Aurora School Board president
  who was elected in 2009 and appointed as its president in 2012, works
  as a researcher for the Colorado Department of Education\n \nBarbara
  Yamrick, an educator who has served on the Aurora School Board in the
  past\n \nFor more information, call 303-344-8060.\n \nEvent flyer:\
 nhttp://lwvarapahoe.org/files/Aurora_School_Board_Forum_flier.pdf\n \
 n \nList of events for Arapahoe County LWV: \nhttp://lwvarapahoe.org
 /Public_Events.html\n \n \n \n\nFor more information visit http://a
 rapahoeteaparty.ning.com/events/aurora-public-school-board-candidate-f
 orum
DTSTART:20131017T003000Z
DTEND:20131017T020000Z
CATEGORIES:"candidate forum"
LOCATION:Gateway High School - Lecture Hall
WEBSITE:http://lwvarapahoe.org/Public_Events.html
URL:http://lwvarapahoe.org/Public_Events.html
CONTACT:
ORGANIZER:LWV [posted by W. Branstetter]
ATTACH;FMTTYPE="image/jpeg":
END:VEVENT
END:VCALENDAR
