BEGIN:VCALENDAR
PRODID:NingEventWidget-v1
VERSION:2.0
METHOD:PUBLISH
BEGIN:VEVENT
UID:3186561:Event:47771
DTSTAMP:20210313T174308Z
SUMMARY:Aurora City Council Candidate Forum
DESCRIPTION:This candidate forum is sponsored by the Aurora Chamber of
  Commerce, League of Women Voters of Arapahoe County, the Aurora Senti
 nel, the Aurora Business Women, and the Aurora Election Commission. Th
 e event will be televised by Channel 8, the city's cable TV and video 
 station.  Candidates for contested races in City Council Wards 1, 2, a
 nd At-Large positions will present their views and answer questions po
 sed by the sponsors. This event is free and open to the public:\n\nThu
 rsday, October 3 -- 6:00 - 9:00 p.m.\nAurora Municipal Building\nCity 
 Council Chambers\n15151 E. Alameda Pkwy.\nAurora, CO 80012\n\nThe Ward
  I candidates are:  □ Eric Busch  □ Sally Mounier\nThe Ward II can
 didates are: □ Bernard Celestin  □ Renie R. Peterson\nThe At-Large
  candidates are:  □ Barb Cleland □ Matthew L. Cook  □ PK (Pervai
 z) Kaiser  □ Angela Lawson  □ Brad Pierce  □ Maya Wheeler\n\nThe
  Ward III incumbent candidate, Marsha Berzins, is unopposed and, there
 fore, will not be part of this forum for contested Council positions.\
 n\nhttp://lwvarapahoe.org/Public_Events.html\n\n\nFor more information
  visit http://arapahoeteaparty.ning.com/events/aurora-city-council-can
 didate-forum
DTSTART:20131004T000000Z
DTEND:20131004T030000Z
CATEGORIES:"candidate forum"
LOCATION:Aurora Municipal Building  City Council Chambers
WEBSITE:http://lwvarapahoe.org/Public_Events.html
URL:http://lwvarapahoe.org/Public_Events.html
CONTACT:
ORGANIZER:various groups [posted by W. Branstetter]
ATTACH;FMTTYPE="image/jpeg":
ATTENDEE;ROLE=REQ-PARTICIPANT;PARTSTAT=TENTATIVE;RSVP=TRUE;CN="W. Bran
 stetter":http://arapahoeteaparty.ning.com/profile/WBranstetter
END:VEVENT
END:VCALENDAR
