BEGIN:VCALENDAR
PRODID:NingEventWidget-v1
VERSION:2.0
METHOD:PUBLISH
BEGIN:VEVENT
UID:3186561:Event:47395
DTSTAMP:20210313T182622Z
SUMMARY:September Meeting: Arapahoe Tea Party
DESCRIPTION:Join the Arapahoe Tea Party and the Colorado Tea Party Pat
 riots for our September meeting.\n\n \n\n\n\n\nBring your questions,
  your perspective and your comments. Our meetings have been standing r
 oom only, so come early!\nTuesday, September 10, 2013 6:30-8:30 pm Sou
 th Metro Fire Rescue 9195 E. Mineral Ave. Centennial, CO 80112\nIf you
  would be interested in helping with a committee or two that might hel
 p make meetings and events run smoother, would you please post a brief
  comment with this announcement.\nIf you are not connected via Faceboo
 k, please find the group \"Arapahoe Tea Party\" \nhttps://www.faceboo
 k.com/groups/arapahoeteaparty\n\nFor more information visit http://ara
 pahoeteaparty.ning.com/events/august-meeting-arapahoe-tea-party
DTSTART:20130911T003000Z
DTEND:20130911T023000Z
CATEGORIES:"monthly meeting"
LOCATION:South Metro Fire Rescue Authority; Mineral Headquarters, Boar
 d Room
WEBSITE:https://maps.google.com/maps?oe=utf-8&client=firefox-a&ie=UTF-
 8&q=south+metro+fire+rescue+authority+mineral+headquarters&fb=1&gl=us&
 hq=south+metro+fire+rescue+authority+mineral+headquarters&cid=0,0,9189
 900575761474566&ei=wsvZUfvrHoWQyQHR5oGQCg&ved=0CIcBEPwSMAA
URL:https://maps.google.com/maps?oe=utf-8&client=firefox-a&ie=UTF-8&q=
 south+metro+fire+rescue+authority+mineral+headquarters&fb=1&gl=us&hq=s
 outh+metro+fire+rescue+authority+mineral+headquarters&cid=0,0,91899005
 75761474566&ei=wsvZUfvrHoWQyQHR5oGQCg&ved=0CIcBEPwSMAA
CONTACT:303-885-2550
ORGANIZER:Randy Corporon
ATTACH;FMTTYPE="image/jpeg":
ATTENDEE;ROLE=REQ-PARTICIPANT;PARTSTAT=ACCEPTED;RSVP=TRUE;CN="Denise D
 enny":http://arapahoeteaparty.ning.com/profile/DeniseDenny
ATTENDEE;ROLE=REQ-PARTICIPANT;PARTSTAT=ACCEPTED;RSVP=TRUE;CN="Jim Harg
 is":http://arapahoeteaparty.ning.com/profile/JimHargis
ATTENDEE;ROLE=REQ-PARTICIPANT;PARTSTAT=ACCEPTED;RSVP=TRUE;CN="W. Brans
 tetter":http://arapahoeteaparty.ning.com/profile/WBranstetter
ATTENDEE;ROLE=REQ-PARTICIPANT;PARTSTAT=ACCEPTED;RSVP=TRUE;CN="Randy B 
 Corporon":http://arapahoeteaparty.ning.com/profile/RandyBCorporon
ATTENDEE;ROLE=REQ-PARTICIPANT;PARTSTAT=ACCEPTED;RSVP=TRUE;CN="Lou Schr
 oeder":http://arapahoeteaparty.ning.com/profile/LouSchroeder
ATTENDEE;ROLE=REQ-PARTICIPANT;PARTSTAT=TENTATIVE;RSVP=TRUE;CN="Larry L
  Schick":http://arapahoeteaparty.ning.com/profile/LarryLSchick
END:VEVENT
END:VCALENDAR
