BEGIN:VCALENDAR
PRODID:NingEventWidget-v1
VERSION:2.0
METHOD:PUBLISH
BEGIN:VEVENT
UID:3186561:Event:46835
DTSTAMP:20210313T181610Z
SUMMARY:August Meeting: Arapahoe Tea Party with TREVOR LOUDON TUESDAY 
 AUGUST 13!
DESCRIPTION:Join the Arapahoe Tea Party and the Colorado Tea Party Pat
 riots for our August meeting this TUESDAY August 13 with international
  speaker and author TREVOR LOUDON!\n\nHis new book \"The Enemies Withi
 n: Communists, Socialists and Progressives in the U.S. Congress\" has 
 just been published. Trevor is a cherished friend of patriots in Colo
 rado and across the nation. He captivated us last year with the detail
  in his first book \"Barack Obama and the Enemies Within\" and is sure
  to garner our rapt attention again. Trevor will not return to Colora
 do until Spring of 2014. Encourage your friends to make every effort t
 o hear about the scoundrels in our midst!\nBooks will be available for
  purchase and signing. His presentation will also be filmed so you wil
 l be part of the audience.\n\n\n\n\nBring your questions, your perspec
 tive and your comments. Our meetings have been standing room only, so 
 come early!\nTuesday, August 13, 2013 6:30-8:30 pm South Metro Fire Re
 scue 9195 E. Mineral Ave. Centennial, CO 80112\nIf you would be intere
 sted in helping with a committee or two that might help make meetings 
 and events run smoother, would you please post a brief comment with th
 is announcement.\nIf you are not connected via Facebook, please find t
 he group \"Arapahoe Tea Party\" \nhttps://www.facebook.com/groups/ara
 pahoeteaparty\n\nFor more information visit http://arapahoeteaparty.ni
 ng.com/events/august-meeting-arapahoe-tea-party-with-trevor-loudon-tue
 sday-augu
DTSTART:20130814T003000Z
DTEND:20130814T023000Z
CATEGORIES:"monthly meeting"
LOCATION:South Metro Fire Rescue Authority; Mineral Headquarters, Boar
 d Room
WEBSITE:https://maps.google.com/maps?oe=utf-8&client=firefox-a&ie=UTF-
 8&q=south+metro+fire+rescue+authority+mineral+headquarters&fb=1&gl=us&
 hq=south+metro+fire+rescue+authority+mineral+headquarters&cid=0,0,9189
 900575761474566&ei=wsvZUfvrHoWQyQHR5oGQCg&ved=0CIcBEPwSMAA
URL:https://maps.google.com/maps?oe=utf-8&client=firefox-a&ie=UTF-8&q=
 south+metro+fire+rescue+authority+mineral+headquarters&fb=1&gl=us&hq=s
 outh+metro+fire+rescue+authority+mineral+headquarters&cid=0,0,91899005
 75761474566&ei=wsvZUfvrHoWQyQHR5oGQCg&ved=0CIcBEPwSMAA
CONTACT:303-885-2550
ORGANIZER:Randy Corporon
ATTACH;FMTTYPE="image/jpeg":
ATTENDEE;ROLE=REQ-PARTICIPANT;PARTSTAT=ACCEPTED;RSVP=TRUE;CN="W. Brans
 tetter":http://arapahoeteaparty.ning.com/profile/WBranstetter
ATTENDEE;ROLE=REQ-PARTICIPANT;PARTSTAT=ACCEPTED;RSVP=TRUE;CN="Randy B 
 Corporon":http://arapahoeteaparty.ning.com/profile/RandyBCorporon
END:VEVENT
END:VCALENDAR
