BEGIN:VCALENDAR
PRODID:NingEventWidget-v1
VERSION:2.0
METHOD:PUBLISH
BEGIN:VEVENT
UID:3186561:Event:5336
DTSTAMP:20210313T173725Z
SUMMARY:ATP Victory Meeting
DESCRIPTION:Saturday July 17th at 1:00 pm. Let us meet and discuss whe
 re we can focus our efforts leading into this fall and check out the n
 ew offices. We have a lot to pack into a couple of hours so no candida
 tes will be invited to speak at this meeting. A summary of our agenda 
 can be seen below and final drafts will be at the meeting.\n\nMeet me 
 at the local Tea Party Partriots office at 5500 East Yale Avenue. Just
  one block east of I-25 from the Yale Exit. It is the large office bui
 lding east of the VFW. The conference room is on the second floor righ
 t out from the elevator.\n\n1: I have invited someone from the Victory
  office to come and tell all of us how thier services are open to us t
 his fall and provide an easy way for us to speak with voters.\n\n2: Ad
 ditional options for getting out the vote in your precincts and area n
 eighborhoods to include sign committee people.\n\n3: Should we schedul
 e another honk & wave get out the vote?\n\n4: Our website is scheduled
  to renew soon and the rates up. I would like to ask if someone would 
 sponsor this next years renewal to help keep this group alive. While w
 e are at it I would like to ask if someone would like to sponsor an or
 der of 100-1000 more constitutions. We just ran out of our last batch.
 \n\n5: Discussion on current events. Should the ATP get involved with 
 any of the current social issues or stay with the fiscally conservativ
 e issues? Case in point the Arizona Law.\n\nFor more information visit
  http://arapahoeteaparty.ning.com/events/atp-victory-meeting
DTSTART:20100717T200000Z
DTEND:20100717T220000Z
CATEGORIES:meeting
LOCATION:Tea Party Patriots office
WEBSITE:
URL:
CONTACT:
ORGANIZER;CN="Chairman's Committee":http://arapahoeteaparty.ning.com/p
 rofile/chairmanscommittee
ATTACH;FMTTYPE="image/jpeg":
ATTENDEE;ROLE=REQ-PARTICIPANT;PARTSTAT=ACCEPTED;RSVP=TRUE;CN="Keith Ul
 mer":http://arapahoeteaparty.ning.com/profile/KeithUlmer
ATTENDEE;ROLE=REQ-PARTICIPANT;PARTSTAT=ACCEPTED;RSVP=TRUE;CN="W. Brans
 tetter":http://arapahoeteaparty.ning.com/profile/WBranstetter
ATTENDEE;ROLE=REQ-PARTICIPANT;PARTSTAT=ACCEPTED;RSVP=TRUE;CN="Chairman
 's Committee":http://arapahoeteaparty.ning.com/profile/chairmanscommit
 tee
ATTENDEE;ROLE=REQ-PARTICIPANT;PARTSTAT=TENTATIVE;RSVP=TRUE;CN="karen h
 urst":http://arapahoeteaparty.ning.com/profile/karenhurst
ATTENDEE;ROLE=REQ-PARTICIPANT;PARTSTAT=TENTATIVE;RSVP=TRUE;CN="Steven 
 Allan White":http://arapahoeteaparty.ning.com/profile/SteveWhite
END:VEVENT
END:VCALENDAR
