BEGIN:VCALENDAR
PRODID:NingEventWidget-v1
VERSION:2.0
METHOD:PUBLISH
BEGIN:VEVENT
UID:3186561:Event:5604
DTSTAMP:20210313T171702Z
SUMMARY:ATP Meeting, CD 7 research flyer, Chairman elections.
DESCRIPTION:Our next meeting will be held at the Victory Office for Ar
 apahoe County, 5950 S. Willow Drive, suite 302. The office is on the t
 hird floor of the Key Bank building one block east of I-25 and Orchard
  Road. The CD 7 research team needs to come with their research materi
 al printed out with source material and phone numbers as needed for th
 e press release. Also the elections for the next Chairman/ President o
 f the ATP are to be held.\n\nFor more information visit http://arapaho
 eteaparty.ning.com/events/atp-meeting-cd-7-research
DTSTART:20100910T003000Z
DTEND:20100910T023000Z
CATEGORIES:meeting
LOCATION:Victory Office
WEBSITE:
URL:
CONTACT:
ORGANIZER;CN="Chairman's Committee":http://arapahoeteaparty.ning.com/p
 rofile/chairmanscommittee
ATTACH;FMTTYPE="image/jpeg":
ATTENDEE;ROLE=REQ-PARTICIPANT;PARTSTAT=ACCEPTED;RSVP=TRUE;CN="Steven H
 aworth":http://arapahoeteaparty.ning.com/profile/StevenHaworth
ATTENDEE;ROLE=REQ-PARTICIPANT;PARTSTAT=ACCEPTED;RSVP=TRUE;CN="Wynette 
 McKee":http://arapahoeteaparty.ning.com/profile/WynetteMcKee
ATTENDEE;ROLE=REQ-PARTICIPANT;PARTSTAT=ACCEPTED;RSVP=TRUE;CN="Stacey R
 ooney":http://arapahoeteaparty.ning.com/profile/StaceyRooney
ATTENDEE;ROLE=REQ-PARTICIPANT;PARTSTAT=ACCEPTED;RSVP=TRUE;CN="W. Brans
 tetter":http://arapahoeteaparty.ning.com/profile/WBranstetter
ATTENDEE;ROLE=REQ-PARTICIPANT;PARTSTAT=ACCEPTED;RSVP=TRUE;CN="Chairman
 's Committee":http://arapahoeteaparty.ning.com/profile/chairmanscommit
 tee
ATTENDEE;ROLE=REQ-PARTICIPANT;PARTSTAT=TENTATIVE;RSVP=TRUE;CN="Victori
 a Anne Livingston":http://arapahoeteaparty.ning.com/profile/VictoriaAn
 neLivingston
ATTENDEE;ROLE=REQ-PARTICIPANT;PARTSTAT=TENTATIVE;RSVP=TRUE;CN="Steve A
 dams":http://arapahoeteaparty.ning.com/profile/SteveAdams
END:VEVENT
END:VCALENDAR
