BEGIN:VCALENDAR
PRODID:NingEventWidget-v1
VERSION:2.0
METHOD:PUBLISH
BEGIN:VEVENT
UID:3186561:Event:41790
DTSTAMP:20210313T172602Z
SUMMARY:ATP Meeting:  2013 Kickoff
DESCRIPTION:Randy Corporon, chairman of Arapahoe County TEA Party, h
 as invited Tom Tancredo to speak along with the candidates for the Col
 orado GOP Chairman. \n \nWhen:  Tuesday, January 22-- 6:30 - 8:30 p
 .m.\nWhere: \nSouth Metro Fire Rescue\n9195 E Mineral Ave\nCentennial
 , CO 80112\n \n \n\nPresentation by:  Former Congressman Tom Tancre
 do\n \nCandidates for Colorado GOP Chairman:\nRyan Call (current Chai
 rman)\nLori Horn (Arapahoe County and R Block Party)\nMark Baisley (Do
 uglas County)\n \nEvent announcement:  https://www.facebook.com/grou
 ps/arapahoeteaparty/#!/events/271494216311818/\n \n\nFacebook group: 
  Arapahoe Tea Party.\n\n\n\n\nFor more information visit http://arapa
 hoeteaparty.ning.com/events/atp-meeting-2013-kickoff
DTSTART:20130123T013000Z
DTEND:20130123T033000Z
CATEGORIES:meeting
LOCATION:South Metro Fire Rescue
WEBSITE:
URL:
CONTACT:
ORGANIZER:posted by W. Branstetter
ATTACH;FMTTYPE="image/jpeg":
ATTENDEE;ROLE=REQ-PARTICIPANT;PARTSTAT=ACCEPTED;RSVP=TRUE;CN="Neal K P
 ashman":http://arapahoeteaparty.ning.com/profile/NealKPashman
ATTENDEE;ROLE=REQ-PARTICIPANT;PARTSTAT=ACCEPTED;RSVP=TRUE;CN="Lisa G S
 pear":http://arapahoeteaparty.ning.com/profile/LisaGSpear
ATTENDEE;ROLE=REQ-PARTICIPANT;PARTSTAT=ACCEPTED;RSVP=TRUE;CN="Linda Ha
 rt":http://arapahoeteaparty.ning.com/profile/LindaHart
END:VEVENT
END:VCALENDAR
