BEGIN:VCALENDAR
PRODID:NingEventWidget-v1
VERSION:2.0
METHOD:PUBLISH
BEGIN:VEVENT
UID:3186561:Event:46620
DTSTAMP:20210313T182954Z
SUMMARY:Arapahoe Tea Party on Backbone Radio TONIGHT!
DESCRIPTION:Randy Corporon, Chairman of the Arapahoe Tea Party, has be
 en invited in-studio to discuss the Tea Party, our July 9 meeting comi
 ng up, the bloated, incoherent, dishonest, open borders, amnesty first
 , Gang of 8 illegal immigration bill, and perhaps anything else we can
  fit in in one hour, from 6-7 PM tonight.\nMatt Dunn and Krista Kafer 
 are your cerebral hosts. Join them tonight from 5-8 PM.\nYou will have
  to tune in at 5:00 p.m. to find out what the other topics and guests 
 might be.\nDon’t miss it! Tune in to 710 KNUS or 1460 KZNT Colorado 
 Springs or online at http://www.710knus.com/ from 5 to 8 PM. Call  30
 3-696-1071. Your smart choice for Sunday night radio.\nhttp://backbone
 radio.net/\n Randy posted event on Facebook at:\n\nhttps://www.faceboo
 k.com/events/546472985413575/\n\n\nFor more information visit http://a
 rapahoeteaparty.ning.com/events/arapahoe-tea-party-on-backbone-radio-t
 onight
DTSTART:20130701T000000Z
DTEND:20130701T010000Z
CATEGORIES:"radio show"
LOCATION:\"Radio  AM 710 KNUS\"
WEBSITE:http://www.710knus.com/
URL:http://www.710knus.com/
CONTACT:
ORGANIZER:Matt Dunn and Krista Kafer [posted by W. Branstetter]
ATTACH;FMTTYPE="image/jpeg":
ATTENDEE;ROLE=REQ-PARTICIPANT;PARTSTAT=ACCEPTED;RSVP=TRUE;CN="Randy B 
 Corporon":http://arapahoeteaparty.ning.com/profile/RandyBCorporon
END:VEVENT
END:VCALENDAR
