BEGIN:VCALENDAR
PRODID:NingEventWidget-v1
VERSION:2.0
METHOD:PUBLISH
BEGIN:VEVENT
UID:3186561:Event:60667
DTSTAMP:20210313T172800Z
SUMMARY:Arapahoe Tea Party Monthly Meeting: Talking Taxes and Roads an
 d more, Celebrate Justice Gorsuch
DESCRIPTION:Let's celebrate our new Supreme Court Justice, Neil Gorsuc
 h!Patti Kurgan with Americans for Prosperity (AFP) will bring us up to
  date on the Colorado legislature's proposals to raise taxes \"for the
  roads and bridges\". But is that where the money will actually go? Co
 me and find out!\n\nAlso note Congressman Ken Buck's book \"Drain the 
 Swamp...\" is scheduled for release April 11 in various formats.\n\nht
 tps://www.amazon.com/Drain-Swamp-Washington-Corruption-Worse/dp/162157
 6388\n\nExpect various announcements for events and news items. Â As a
 lways it is necessary to be vigilant of developments in all levels of 
 government.\n\nAs with all of the meetings, come early for a good seat
  and get started.\n\nOur meetings attract a crowd, so come early! Â \n
 Â \nTuesday, April 11, 2017 6:30-8:30 pm South Metro Fire Rescue 9195 
 E. Mineral Ave. Centennial, CO 80112\n\nNOTE: Please do not call South
  Metro Fire Rescue's office for information, the board room is reserve
 d for many groups' purposes without details of the events.\nÂ \nEvent 
 announcement on Facebook:\nhttps://www.facebook.com/events/40797609290
 3695/\n\nIf you learn of townhall meetings or candidate forums, please
  spread the word--i.e. in comments below or on the group's Facebook pa
 ge. Â Watch this Arapahoe Tea Party website for events for other group
 s or educational events.\nÂ \nÂ \nIf you would be interested in helpin
 g with a committee that might help meetings and events run smoother, w
 ould you please post a brief comment with this announcement.\nÂ \nIf y
 ou are not connected via Facebook, please find the group \"Arapahoe Te
 a Party\"Â for news items and events:\nhttps://www.facebook.com/groups
 /arapahoeteaparty\nÂ \n*************************\n\nNOTE:Â  Please do 
 not contact the building management for information about this event.Â
   The group sponsoring the event has contact information at the link p
 rovided above.\n\n\n\nFor more information visit http://arapahoeteapar
 ty.ning.com/events/arapahoe-tea-party-monthly-meeting-talking-taxes-an
 d-roads-and-mo
DTSTART:20170412T003000Z
DTEND:20170412T023000Z
CATEGORIES:"monthly meeting"
LOCATION:South Metro Fire Rescue Authority; Mineral Headquarters, Boar
 d Room
WEBSITE:https://maps.google.com/maps?oe=utf-8&client=firefox-a&ie=UTF-
 8&q=south+metro+fire+rescue+authority+mineral+headquarters&fb=1&gl=us&
 hq=south+metro+fire+rescue+authority+mineral+headquarters&cid=0,0,9189
 900575761474566&ei=wsvZUfvrHoWQyQHR5oGQCg&ved=0CIcBEPwSMAA
URL:https://maps.google.com/maps?oe=utf-8&client=firefox-a&ie=UTF-8&q=
 south+metro+fire+rescue+authority+mineral+headquarters&fb=1&gl=us&hq=s
 outh+metro+fire+rescue+authority+mineral+headquarters&cid=0,0,91899005
 75761474566&ei=wsvZUfvrHoWQyQHR5oGQCg&ved=0CIcBEPwSMAA
CONTACT:
ORGANIZER:Regina Thomson and Randy Corporon [posted by W. Branstetter]
ATTACH;FMTTYPE="image/jpeg":
ATTENDEE;ROLE=REQ-PARTICIPANT;PARTSTAT=ACCEPTED;RSVP=TRUE;CN="W. Brans
 tetter":http://arapahoeteaparty.ning.com/profile/WBranstetter
END:VEVENT
END:VCALENDAR
