BEGIN:VCALENDAR
PRODID:NingEventWidget-v1
VERSION:2.0
METHOD:PUBLISH
BEGIN:VEVENT
UID:3186561:Event:58938
DTSTAMP:20210313T174822Z
SUMMARY:Arapahoe Tea Party Monthly Meeting: Ballot Initiatives and Iss
 ues
DESCRIPTION: Ballots will be mailed soon and topics to be discussed in
 clude many ballot initiatives and issues.  All are important to know 
 and understand the potential/probable impacts good or bad.  There nev
 er seems to be enough time for discussion.\n\nPerhaps there will be ne
 ws of when Trevor Loudon will be in Colorado presenting the movie \"En
 emies Within.\" Pre-order DVDs of the movie now:\nhttp://enemieswithin
 movie.com/\n\n\nAs with all of the meetings, come early for a good sea
 t and get started.\n\nOur meetings attract a crowd, so come early!  \
 n \nTuesday, October 11, 2016 6:30-8:30 pm South Metro Fire Rescue 91
 95 E. Mineral Ave. Centennial, CO 80112\n\nNOTE: Please do not call So
 uth Metro Fire Rescue's office for information, the board room is rese
 rved for many groups' purposes without details of the events.\n \nEve
 nt announcement on Facebook:\nhttps://www.facebook.com/events/93613076
 6516270/\n\nIf you learn of townhall meetings or candidate forums, ple
 ase spread the word--i.e. in comments below or on the group's Facebook
  page.  Watch this Arapahoe Tea Party website for events for other gr
 oups or educational events.\n \n \nIf you would be interested in hel
 ping with a committee or two that might help make meetings and events 
 run smoother, would you please post a brief comment with this announce
 ment.\n \nIf you are not connected via Facebook, please find the grou
 p \"Arapahoe Tea Party\" for news items and events:\nhttps://www.face
 book.com/groups/arapahoeteaparty\n \n*************************\n\nNOT
 E:  Please do not contact the building management for information abo
 ut this event.  The group sponsoring the event has contact informatio
 n at the link provided above.\n\n\n\nFor more information visit http:/
 /arapahoeteaparty.ning.com/events/arapahoe-tea-party-monthly-meeting-s
 kype-with-trevor-loudon-also
DTSTART:20161012T003000Z
DTEND:20161012T023000Z
CATEGORIES:"monthly meeting"
LOCATION:South Metro Fire Rescue Authority; Mineral Headquarters, Boar
 d Room
WEBSITE:https://maps.google.com/maps?oe=utf-8&client=firefox-a&ie=UTF-
 8&q=south+metro+fire+rescue+authority+mineral+headquarters&fb=1&gl=us&
 hq=south+metro+fire+rescue+authority+mineral+headquarters&cid=0,0,9189
 900575761474566&ei=wsvZUfvrHoWQyQHR5oGQCg&ved=0CIcBEPwSMAA
URL:https://maps.google.com/maps?oe=utf-8&client=firefox-a&ie=UTF-8&q=
 south+metro+fire+rescue+authority+mineral+headquarters&fb=1&gl=us&hq=s
 outh+metro+fire+rescue+authority+mineral+headquarters&cid=0,0,91899005
 75761474566&ei=wsvZUfvrHoWQyQHR5oGQCg&ved=0CIcBEPwSMAA
CONTACT:
ORGANIZER:Regina Thomson and Randy Corporon [posted by W. Branstetter]
ATTACH;FMTTYPE="image/jpeg":
ATTENDEE;ROLE=REQ-PARTICIPANT;PARTSTAT=ACCEPTED;RSVP=TRUE;CN="W. Brans
 tetter":http://arapahoeteaparty.ning.com/profile/WBranstetter
END:VEVENT
END:VCALENDAR
