BEGIN:VCALENDAR
PRODID:NingEventWidget-v1
VERSION:2.0
METHOD:PUBLISH
BEGIN:VEVENT
UID:3186561:Event:59031
DTSTAMP:20210313T182236Z
SUMMARY:Arapahoe Tea Party Monthly Meeting: Skype with Trevor Loudon, 
 also Ballot Initiatives and Issues
DESCRIPTION:Trevor Loudon expects to Skype with a message about the mo
 vie \"Enemies Within\" just released.Ballots will be mailed soon and t
 opics to be discussed include many ballot initiatives and issues.  Al
 l are important to know and understand the potential/probable impacts 
 good or bad.  There never seems to be enough time for discussion.http
 s://www.facebook.com/events/936130766516270/\n\n[Apologies for getting
  this reminder out so late.]\n\nAs with all of the meetings, come earl
 y for a good seat and get started.\n\nOur meetings attract a crowd, so
  come early!  \n \nTuesday, September 13, 2016 6:30-8:30 pm South Me
 tro Fire Rescue 9195 E. Mineral Ave. Centennial, CO 80112\n\nNOTE: Ple
 ase do not call South Metro Fire Rescue's office for information, the 
 board room is reserved for many groups' purposes without details of th
 e events.\n \nEvent announcement on Facebook:\nhttps://www.facebook.c
 om/events/936130766516270/\n\nIf you learn of townhall meetings or can
 didate forums, please spread the word--i.e. in comments below or on th
 e group's Facebook page.  Watch this Arapahoe Tea Party website for e
 vents for other groups or educational events.\n \n \nIf you would be
  interested in helping with a committee or two that might help make me
 etings and events run smoother, would you please post a brief comment 
 with this announcement.\n \nIf you are not connected via Facebook, pl
 ease find the group \"Arapahoe Tea Party\" for news items and events:
 \nhttps://www.facebook.com/groups/arapahoeteaparty\n \n**************
 ***********\n\nNOTE:  Please do not contact the building management f
 or information about this event.  The group sponsoring the event has 
 contact information at the link provided above.\n\n\n\nFor more inform
 ation visit http://arapahoeteaparty.ning.com/events/arapahoe-tea-party
 -monthly-meeting-skype-with-trevor-loudon-also-
DTSTART:20160914T003000Z
DTEND:20160914T023000Z
CATEGORIES:"monthly meeting"
LOCATION:South Metro Fire Rescue Authority; Mineral Headquarters, Boar
 d Room
WEBSITE:https://maps.google.com/maps?oe=utf-8&client=firefox-a&ie=UTF-
 8&q=south+metro+fire+rescue+authority+mineral+headquarters&fb=1&gl=us&
 hq=south+metro+fire+rescue+authority+mineral+headquarters&cid=0,0,9189
 900575761474566&ei=wsvZUfvrHoWQyQHR5oGQCg&ved=0CIcBEPwSMAA
URL:https://maps.google.com/maps?oe=utf-8&client=firefox-a&ie=UTF-8&q=
 south+metro+fire+rescue+authority+mineral+headquarters&fb=1&gl=us&hq=s
 outh+metro+fire+rescue+authority+mineral+headquarters&cid=0,0,91899005
 75761474566&ei=wsvZUfvrHoWQyQHR5oGQCg&ved=0CIcBEPwSMAA
CONTACT:
ORGANIZER:Regina Thomson and Randy Corporon [posted by W. Branstetter]
ATTACH;FMTTYPE="image/jpeg":
ATTENDEE;ROLE=REQ-PARTICIPANT;PARTSTAT=ACCEPTED;RSVP=TRUE;CN="Randy B 
 Corporon":http://arapahoeteaparty.ning.com/profile/RandyBCorporon
ATTENDEE;ROLE=REQ-PARTICIPANT;PARTSTAT=ACCEPTED;RSVP=TRUE;CN="W. Brans
 tetter":http://arapahoeteaparty.ning.com/profile/WBranstetter
END:VEVENT
END:VCALENDAR
