BEGIN:VCALENDAR
PRODID:NingEventWidget-v1
VERSION:2.0
METHOD:PUBLISH
BEGIN:VEVENT
UID:3186561:Event:60566
DTSTAMP:20210313T181450Z
SUMMARY:Arapahoe Tea Party Monthly Meeting: Philip Haney, author of \"
 See Something, Say Nothing\" (via Skype)
DESCRIPTION:Philip Haney, author of See Something, Say Nothing, will a
 ddress the meeting via Skype.  See book info:\n\nhttps://www.amazon.c
 om/See-Something-Say-Nothing-Governments/dp/1944229205\n\nExpect vario
 us announcements for events and news items.  As always it is necessar
 y to be vigilant of developments in all levels of government.\n\n\nAs 
 with all of the meetings, come early for a good seat and get started.\
 n\nOur meetings attract a crowd, so come early!  \n \nTuesday, March
  14, 2017 6:30-8:30 pm South Metro Fire Rescue 9195 E. Mineral Ave. Ce
 ntennial, CO 80112\n\nNOTE: Please do not call South Metro Fire Rescue
 's office for information, the board room is reserved for many groups'
  purposes without details of the events.\n \nEvent announcement on Fa
 cebook:\nhttps://www.facebook.com/events/393839047639823/\n\nIf you le
 arn of townhall meetings or candidate forums, please spread the word--
 i.e. in comments below or on the group's Facebook page.  Watch this A
 rapahoe Tea Party website for events for other groups or educational e
 vents.\n \n \nIf you would be interested in helping with a committee
  that might help meetings and events run smoother, would you please po
 st a brief comment with this announcement.\n \nIf you are not connect
 ed via Facebook, please find the group \"Arapahoe Tea Party\" for new
 s items and events:\nhttps://www.facebook.com/groups/arapahoeteaparty\
 n \n*************************\n\nNOTE:  Please do not contact the bu
 ilding management for information about this event.  The group sponso
 ring the event has contact information at the link provided above.\n\n
 \n\nFor more information visit http://arapahoeteaparty.ning.com/events
 /arapahoe-tea-party-monthly-meeting-philip-haney-author-of-see-som
DTSTART:20170315T003000Z
DTEND:20170315T023000Z
CATEGORIES:"monthly meeting"
LOCATION:South Metro Fire Rescue Authority; Mineral Headquarters, Boar
 d Room
WEBSITE:https://maps.google.com/maps?oe=utf-8&client=firefox-a&ie=UTF-
 8&q=south+metro+fire+rescue+authority+mineral+headquarters&fb=1&gl=us&
 hq=south+metro+fire+rescue+authority+mineral+headquarters&cid=0,0,9189
 900575761474566&ei=wsvZUfvrHoWQyQHR5oGQCg&ved=0CIcBEPwSMAA
URL:https://maps.google.com/maps?oe=utf-8&client=firefox-a&ie=UTF-8&q=
 south+metro+fire+rescue+authority+mineral+headquarters&fb=1&gl=us&hq=s
 outh+metro+fire+rescue+authority+mineral+headquarters&cid=0,0,91899005
 75761474566&ei=wsvZUfvrHoWQyQHR5oGQCg&ved=0CIcBEPwSMAA
CONTACT:
ORGANIZER:Regina Thomson and Randy Corporon [posted by W. Branstetter]
ATTACH;FMTTYPE="image/jpeg":
ATTENDEE;ROLE=REQ-PARTICIPANT;PARTSTAT=ACCEPTED;RSVP=TRUE;CN="W. Brans
 tetter":http://arapahoeteaparty.ning.com/profile/WBranstetter
END:VEVENT
END:VCALENDAR
