BEGIN:VCALENDAR
PRODID:NingEventWidget-v1
VERSION:2.0
METHOD:PUBLISH
BEGIN:VEVENT
UID:3186561:Event:59362
DTSTAMP:20210313T180948Z
SUMMARY:Arapahoe Tea Party Monthly Meeting: Matt Crane (County Clerk) 
 with election data, Rep. Justin Everett & Sen. Chris Holbert
DESCRIPTION:County Clerk Matt Crane has information about the election
  data that people should learn about for work ideas.  The charts are 
 certainly interesting.Rep. Justin Everett and Senator Chris Holbert ha
 ve comments about expectations for the 2017 Colorado legislature.\n\nA
 s with all of the meetings, come early for a good seat and get started
 .\n\nOur meetings attract a crowd, so come early!  \n \nTuesday, Dec
 ember 13, 2016 6:30-8:30 pm South Metro Fire Rescue 9195 E. Mineral Av
 e. Centennial, CO 80112\n\nNOTE: Please do not call South Metro Fire R
 escue's office for information, the board room is reserved for many gr
 oups' purposes without details of the events.\n \nEvent announcement 
 on Facebook:\nhttps://www.facebook.com/events/173128293159950/\n\nIf y
 ou learn of townhall meetings or candidate forums, please spread the w
 ord--i.e. in comments below or on the group's Facebook page.  Watch t
 his Arapahoe Tea Party website for events for other groups or educatio
 nal events.\n \n \nIf you would be interested in helping with a comm
 ittee or two that might help make meetings and events run smoother, wo
 uld you please post a brief comment with this announcement.\n \nIf yo
 u are not connected via Facebook, please find the group \"Arapahoe Tea
  Party\" for news items and events:\nhttps://www.facebook.com/groups/
 arapahoeteaparty\n \n*************************\n\nNOTE:  Please do n
 ot contact the building management for information about this event. 
  The group sponsoring the event has contact information at the link pr
 ovided above.\n\n\n\nFor more information visit http://arapahoeteapart
 y.ning.com/events/arapahoe-tea-party-monthly-meeting-matt-crane-county
 -clerk-with-e
DTSTART:20161214T013000Z
DTEND:20161214T033000Z
CATEGORIES:"monthly meeting"
LOCATION:South Metro Fire Rescue Authority; Mineral Headquarters, Boar
 d Room
WEBSITE:https://maps.google.com/maps?oe=utf-8&client=firefox-a&ie=UTF-
 8&q=south+metro+fire+rescue+authority+mineral+headquarters&fb=1&gl=us&
 hq=south+metro+fire+rescue+authority+mineral+headquarters&cid=0,0,9189
 900575761474566&ei=wsvZUfvrHoWQyQHR5oGQCg&ved=0CIcBEPwSMAA
URL:https://maps.google.com/maps?oe=utf-8&client=firefox-a&ie=UTF-8&q=
 south+metro+fire+rescue+authority+mineral+headquarters&fb=1&gl=us&hq=s
 outh+metro+fire+rescue+authority+mineral+headquarters&cid=0,0,91899005
 75761474566&ei=wsvZUfvrHoWQyQHR5oGQCg&ved=0CIcBEPwSMAA
CONTACT:
ORGANIZER:Regina Thomson and Randy Corporon [posted by W. Branstetter]
ATTACH;FMTTYPE="image/jpeg":
ATTENDEE;ROLE=REQ-PARTICIPANT;PARTSTAT=ACCEPTED;RSVP=TRUE;CN="Tom Devi
 ne":http://arapahoeteaparty.ning.com/profile/TomDevine
ATTENDEE;ROLE=REQ-PARTICIPANT;PARTSTAT=ACCEPTED;RSVP=TRUE;CN="W. Brans
 tetter":http://arapahoeteaparty.ning.com/profile/WBranstetter
END:VEVENT
END:VCALENDAR
