BEGIN:VCALENDAR
PRODID:NingEventWidget-v1
VERSION:2.0
METHOD:PUBLISH
BEGIN:VEVENT
UID:3186561:Event:58698
DTSTAMP:20210313T184222Z
SUMMARY:Arapahoe Tea Party Monthly Meeting:  Curtis Bowers and (Movie)
  \"Agenda 2: Masters of Deceit
DESCRIPTION:Curtis Bowers, documentary filmmaker, will present the sec
 ond film \"Agenda 2:  Masters of Deceit.\"  The movie will be shown 
 and Curtis Bowers will have DVDs available.  Trailer:\n\nhttps://vime
 o.com/136798883\n\nIf you have not seen the first movie, \"Agenda: Gri
 nding America Down,\" or want to see it again here is a link to access
  it on-line.  It is helpful to know the complete content of this firs
 t movie in understanding the additional material covered in \"Agenda 2
 ...\"\n\nhttp://standupforthetruth.com/2012/10/watch-agenda-movie-for-
 free/\n\nCurtis will bring us up to date on the progressive infiltrati
 on of culture, politics, religion, and education. \n\n\nAs with all o
 f the meetings, come early for a good seat and get started.\n\nOur mee
 tings attract a crowd, so come early!  \n \nTuesday, July 12, 2016 6
 :30-8:30 pm South Metro Fire Rescue 9195 E. Mineral Ave. Centennial, C
 O 80112\n\nNOTE: Please do not call South Metro Fire Rescue's office f
 or information, the board room is reserved for many groups' purposes w
 ithout details of the events.\n \nEvent announcement on Facebook:\nht
 tps://www.facebook.com/events/554496348086233/\n\nIf you learn of town
 hall meetings or candidate forums, please spread the word--i.e. in com
 ments below or on the group's Facebook page.  Watch this Arapahoe Tea
  Party website for events for other groups or educational events.\n \
 n \nIf you would be interested in helping with a committee or two tha
 t might help make meetings and events run smoother, would you please p
 ost a brief comment with this announcement.\n \nIf you are not connec
 ted via Facebook, please find the group \"Arapahoe Tea Party\" for ne
 ws items and events:\nhttps://www.facebook.com/groups/arapahoeteaparty
 \n \n*************************\n\nNOTE:  Please do not contact the b
 uilding management for information about this event.  The group spons
 oring the event has contact information at the link provided above.\n\
 n\n\nFor more information visit http://arapahoeteaparty.ning.com/event
 s/arapahoe-tea-party-monthly-meeting-curtis-bowers-and-movie-agenda
DTSTART:20160713T003000Z
DTEND:20160713T023000Z
CATEGORIES:"monthly meeting"
LOCATION:South Metro Fire Rescue Authority; Mineral Headquarters, Boar
 d Room
WEBSITE:https://maps.google.com/maps?oe=utf-8&client=firefox-a&ie=UTF-
 8&q=south+metro+fire+rescue+authority+mineral+headquarters&fb=1&gl=us&
 hq=south+metro+fire+rescue+authority+mineral+headquarters&cid=0,0,9189
 900575761474566&ei=wsvZUfvrHoWQyQHR5oGQCg&ved=0CIcBEPwSMAA
URL:https://maps.google.com/maps?oe=utf-8&client=firefox-a&ie=UTF-8&q=
 south+metro+fire+rescue+authority+mineral+headquarters&fb=1&gl=us&hq=s
 outh+metro+fire+rescue+authority+mineral+headquarters&cid=0,0,91899005
 75761474566&ei=wsvZUfvrHoWQyQHR5oGQCg&ved=0CIcBEPwSMAA
CONTACT:
ORGANIZER:Regina Thomson and Randy Corporon [posted by W. Branstetter]
ATTACH;FMTTYPE="image/jpeg":
ATTENDEE;ROLE=REQ-PARTICIPANT;PARTSTAT=ACCEPTED;RSVP=TRUE;CN="Randy B 
 Corporon":http://arapahoeteaparty.ning.com/profile/RandyBCorporon
ATTENDEE;ROLE=REQ-PARTICIPANT;PARTSTAT=ACCEPTED;RSVP=TRUE;CN="W. Brans
 tetter":http://arapahoeteaparty.ning.com/profile/WBranstetter
END:VEVENT
END:VCALENDAR
