BEGIN:VCALENDAR
PRODID:NingEventWidget-v1
VERSION:2.0
METHOD:PUBLISH
BEGIN:VEVENT
UID:3186561:Event:58830
DTSTAMP:20210313T173744Z
SUMMARY:Arapahoe Tea Party Monthly Meeting:  \"Clinton Cash\" Movie an
 d More
DESCRIPTION:The 65-minute \"Clinton Cash\" movie release in July on-li
 ne is planned.  The movie is based on Peter Schweizer's book \"Clinto
 n Cash.\"  Expect to discuss other issues.https://www.facebook.com/ev
 ents/163537184068868/\n\n[Apologies for getting this reminder out so l
 ate.]\n\nAs with all of the meetings, come early for a good seat and g
 et started.\n\nOur meetings attract a crowd, so come early!  \n \nTu
 esday, August 9, 2016 6:30-8:30 pm South Metro Fire Rescue 9195 E. Min
 eral Ave. Centennial, CO 80112\n\nNOTE: Please do not call South Metro
  Fire Rescue's office for information, the board room is reserved for 
 many groups' purposes without details of the events.\n \nEvent announ
 cement on Facebook:\nhttps://www.facebook.com/events/163537184068868/\
 n\nIf you learn of townhall meetings or candidate forums, please sprea
 d the word--i.e. in comments below or on the group's Facebook page.  
 Watch this Arapahoe Tea Party website for events for other groups or e
 ducational events.\n \n \nIf you would be interested in helping with
  a committee or two that might help make meetings and events run smoot
 her, would you please post a brief comment with this announcement.\n 
 \nIf you are not connected via Facebook, please find the group \"Arapa
 hoe Tea Party\" for news items and events:\nhttps://www.facebook.com/
 groups/arapahoeteaparty\n \n*************************\n\nNOTE:  Plea
 se do not contact the building management for information about this e
 vent.  The group sponsoring the event has contact information at the 
 link provided above.\n\n\n\nFor more information visit http://arapahoe
 teaparty.ning.com/events/arapahoe-tea-party-monthly-meeting-clinton-ca
 sh-movie-and-more
DTSTART:20160810T003000Z
DTEND:20160810T023000Z
CATEGORIES:"monthly meeting"
LOCATION:South Metro Fire Rescue Authority; Mineral Headquarters, Boar
 d Room
WEBSITE:https://maps.google.com/maps?oe=utf-8&client=firefox-a&ie=UTF-
 8&q=south+metro+fire+rescue+authority+mineral+headquarters&fb=1&gl=us&
 hq=south+metro+fire+rescue+authority+mineral+headquarters&cid=0,0,9189
 900575761474566&ei=wsvZUfvrHoWQyQHR5oGQCg&ved=0CIcBEPwSMAA
URL:https://maps.google.com/maps?oe=utf-8&client=firefox-a&ie=UTF-8&q=
 south+metro+fire+rescue+authority+mineral+headquarters&fb=1&gl=us&hq=s
 outh+metro+fire+rescue+authority+mineral+headquarters&cid=0,0,91899005
 75761474566&ei=wsvZUfvrHoWQyQHR5oGQCg&ved=0CIcBEPwSMAA
CONTACT:
ORGANIZER:Regina Thomson and Randy Corporon [posted by W. Branstetter]
ATTACH;FMTTYPE="image/jpeg":
ATTENDEE;ROLE=REQ-PARTICIPANT;PARTSTAT=ACCEPTED;RSVP=TRUE;CN="W. Brans
 tetter":http://arapahoeteaparty.ning.com/profile/WBranstetter
END:VEVENT
END:VCALENDAR
