BEGIN:VCALENDAR
PRODID:NingEventWidget-v1
VERSION:2.0
METHOD:PUBLISH
BEGIN:VEVENT
UID:3186561:Event:3274
DTSTAMP:20210313T173905Z
SUMMARY:Arapahoe Tea Party Meeting
DESCRIPTION:Meeting with members to..\n1. Get to know one another\n2. 
 Have a place where we can continue to organize\n3. Develop future plan
 s\n\nFor more information visit http://arapahoeteaparty.ning.com/event
 s/arapahoe-tea-party-meeting
DTSTART:20091004T190000Z
DTEND:20091004T210000Z
CATEGORIES:meeting
LOCATION:Randy Collins' House
WEBSITE:
URL:
CONTACT:303-638-4500
ORGANIZER:Randy Collins
ATTACH;FMTTYPE="image/jpeg":
ATTENDEE;ROLE=REQ-PARTICIPANT;PARTSTAT=ACCEPTED;RSVP=TRUE;CN="W. Brans
 tetter":http://arapahoeteaparty.ning.com/profile/WBranstetter
ATTENDEE;ROLE=REQ-PARTICIPANT;PARTSTAT=ACCEPTED;RSVP=TRUE;CN="Chairman
 's Committee":http://arapahoeteaparty.ning.com/profile/chairmanscommit
 tee
END:VEVENT
END:VCALENDAR
