BEGIN:VCALENDAR
PRODID:NingEventWidget-v1
VERSION:2.0
METHOD:PUBLISH
BEGIN:VEVENT
UID:3186561:Event:37774
DTSTAMP:20210313T180142Z
SUMMARY:Arapahoe County Republican Men:  Thomas Ryan on FASTER Lawsuit
DESCRIPTION:The feature of the Wednesday morning breakfast meeting at 
 the Arapahoe County Republican Men's Club is Thomas Ryan regarding the
  FASTER lawsuit. \n \nhttp://acrepubclub.wordpress.com/2012/06/13/to
 m-ryan-faster-lawsuit/\n \nThe breakfast meetings are weekly on Wedne
 sday mornings starting at 6:30 a.m. with buffet-style meal ($14.00). 
 \n \nStart your morning with friends and lively discussion. \n \nht
 tp://garciasrestaurant-dtc.com/\n \n \n--posted by Wilma B. for the 
 chairman--\n \n\nFor more information visit http://arapahoeteaparty.n
 ing.com/events/arapahoe-county-republican-men-thomas-ryan-on-faster-la
 wsuit
DTSTART:20120620T123000Z
DTEND:20120620T143000Z
CATEGORIES:debate, "candidate forum", meeting
LOCATION:Garcia's Mexican Restaurant
WEBSITE:http://acrepubclub.wordpress.com/
URL:http://acrepubclub.wordpress.com/
CONTACT:
ORGANIZER;CN="Chairman's Committee":http://arapahoeteaparty.ning.com/p
 rofile/chairmanscommittee
ATTACH;FMTTYPE="image/jpeg":
ATTENDEE;ROLE=REQ-PARTICIPANT;PARTSTAT=TENTATIVE;RSVP=TRUE;CN="Chairma
 n's Committee":http://arapahoeteaparty.ning.com/profile/chairmanscommi
 ttee
END:VEVENT
END:VCALENDAR
