BEGIN:VCALENDAR
PRODID:NingEventWidget-v1
VERSION:2.0
METHOD:PUBLISH
BEGIN:VEVENT
UID:3186561:Event:35421
DTSTAMP:20210313T182203Z
SUMMARY:Arapahoe County Republican Men:  Speaker Chief Justice Michael
  L. Bender
DESCRIPTION:The feature of the Wednesday morning breakfast meeting at 
 the Arapahoe County Republican Men's Club is Chief Justice Michael L. 
 Bender. \n \nhttp://acrepubclub.wordpress.com/2012/03/03/cu-regents-
 debate/\n \nThe breakfast meetings are weekly on Wednesday mornings s
 tarting at 6:30 a.m. with buffet-style meal ($14.00). \n \nStart you
 r morning with friends and lively discussion. \n \nhttp://garciasres
 taurant-dtc.com/\n \n \n--posted by Wilma B. for the chairman--\n \
 n\nFor more information visit http://arapahoeteaparty.ning.com/events/
 arapahoe-county-republican-men-speaker-chief-justice-michael-l-be
DTSTART:20120404T123000Z
DTEND:20120404T143000Z
CATEGORIES:debate, "candidate forum", meeting
LOCATION:Garcia's Mexican Restaurant
WEBSITE:http://acrepubclub.wordpress.com/
URL:http://acrepubclub.wordpress.com/
CONTACT:
ORGANIZER;CN="Chairman's Committee":http://arapahoeteaparty.ning.com/p
 rofile/chairmanscommittee
ATTACH;FMTTYPE="image/jpeg":
ATTENDEE;ROLE=REQ-PARTICIPANT;PARTSTAT=ACCEPTED;RSVP=TRUE;CN="Lou Schr
 oeder":http://arapahoeteaparty.ning.com/profile/LouSchroeder
ATTENDEE;ROLE=REQ-PARTICIPANT;PARTSTAT=ACCEPTED;RSVP=TRUE;CN="Chairman
 's Committee":http://arapahoeteaparty.ning.com/profile/chairmanscommit
 tee
END:VEVENT
END:VCALENDAR
