BEGIN:VCALENDAR
PRODID:NingEventWidget-v1
VERSION:2.0
METHOD:PUBLISH
BEGIN:VEVENT
UID:3186561:Event:49966
DTSTAMP:20210313T171810Z
SUMMARY:Arapahoe County Republican Men's Club:  meets every Wednesday 
 morning
DESCRIPTION:Arapahoe County Republican Men's Club meets every Wednesda
 y morning for breakfast (buffet style) and a speaker.  This is an ear
 ly morning event so you might be able to attend before the workday sta
 rts.  Check them out:\n \nWhen:  Wednesday, October 23, 2013,\n  
 Doors open at 6:30 a.m.\n  Breakfast at 7:00 a.m.\n  Meeting & speak
 er at 7:30-8:30 a.m.\n \nWhere:\nGarcia's Mexican Restaurant\n5050 S.
  Syracuse Street,\nDenver, CO 80237\nJust off I-25 and Belleview Avenu
 e\n  \nCost:  About $15\n\nhttp://www.arapahoerepublicans.org/clubs
 /arapahoe-county-republican-mens-club\n\nThey typically have candidate
 s or people with topics that are in the news.\n\n\n\n\n\n\n\n\n\n\n\n\
 n\n\nFor more information visit http://arapahoeteaparty.ning.com/event
 s/arapahoe-county-republican-men-s-club-meets-every-wednesday-morni
DTSTART:20140423T123000Z
DTEND:20140423T143000Z
CATEGORIES:meeting
LOCATION:Garcia's Mexican Restaurant
WEBSITE:http://www.arapahoerepublicans.org/clubs/arapahoe-county-repub
 lican-mens-club
URL:http://www.arapahoerepublicans.org/clubs/arapahoe-county-republica
 n-mens-club
CONTACT:
ORGANIZER:[posted by W. Branstetter]
ATTACH;FMTTYPE="image/jpeg":
END:VEVENT
END:VCALENDAR
