BEGIN:VCALENDAR
PRODID:NingEventWidget-v1
VERSION:2.0
METHOD:PUBLISH
BEGIN:VEVENT
UID:3186561:Event:33462
DTSTAMP:20210313T182548Z
SUMMARY:Arapahoe County Republican Club Weekly Meeting Notice
DESCRIPTION:JC Watts tells his side for endorsing Newt. Interesting.Wo
 nder what the Rocky Mountain Black Tea Party thinks about this. Hope t
 o find out Weds at the Arapahoe Republican...Club.  Derrick Wilburn, 
 Rocky Mountain Black Tea Party will discuss:  Where's the Black Conse
 rvative vote in Colorado? What can the GOP do to increase it? Learn fr
 om those who know. Join us as we discuss, listen and learn.\n\nFor mor
 e information visit http://arapahoeteaparty.ning.com/events/arapahoe-c
 ounty-republican-club-weekly-meeting-notice
DTSTART:20111228T133000Z
DTEND:20111228T150000Z
CATEGORIES:meeting
LOCATION:Garcia's Restaurant
WEBSITE:http://mapq.st/s8wz5z
URL:http://mapq.st/s8wz5z
CONTACT:
ORGANIZER:Arapahoe County Republicans Club
ATTACH;FMTTYPE="image/jpeg":
ATTENDEE;ROLE=REQ-PARTICIPANT;PARTSTAT=ACCEPTED;RSVP=TRUE;CN="W. Brans
 tetter":http://arapahoeteaparty.ning.com/profile/WBranstetter
ATTENDEE;ROLE=REQ-PARTICIPANT;PARTSTAT=ACCEPTED;RSVP=TRUE;CN="Randy B 
 Corporon":http://arapahoeteaparty.ning.com/profile/RandyBCorporon
ATTENDEE;ROLE=REQ-PARTICIPANT;PARTSTAT=ACCEPTED;RSVP=TRUE;CN="Lynn Rei
 d":http://arapahoeteaparty.ning.com/profile/LynnReid
ATTENDEE;ROLE=REQ-PARTICIPANT;PARTSTAT=ACCEPTED;RSVP=TRUE;CN="Theresa 
 Collins":http://arapahoeteaparty.ning.com/profile/TheresaCollins
END:VEVENT
END:VCALENDAR
