BEGIN:VCALENDAR
PRODID:NingEventWidget-v1
VERSION:2.0
METHOD:PUBLISH
BEGIN:VEVENT
UID:3186561:Event:38719
DTSTAMP:20210313T172942Z
SUMMARY:Arapahoe County Candidate Forum--Colorado Women's Alliance and
  710KNUS
DESCRIPTION:\nArapahoe County Candidate Forum Thursday, September 13 7
 :00 pm - 9:00 pm Bemis Library 6014 S Datura Street Littleton, CO  Ope
 n to the public - no charge  All Republican and Democrat house and sen
 ate candidates have been invited.   The Colorado Women’s Alliance ha
 s embarked on a campaign to help educate voters, particularly female v
 oters, on campaign issues that most impact them each day.  The organi
 zation will host two candidate forums – one in Jefferson County and 
 one in Arapahoe County – in conjunction with 710KNUS.  The two even
 ts are open to major party candidates running for Colorado State House
  and Senate in the respective counties.\n\nhttp://www.coloradowomensal
 liance.org/\n \n[event announcement on Facebook by Regina Thomson]\n\
 n*********************\nThis looks like a really good event to share w
 ith someone who needs to meet the candidates.\nNote that the library c
 loses promptly at 9:00 p.m.\n\n\nFor more information visit http://ara
 pahoeteaparty.ning.com/events/arapahoe-county-candidate-forum-colorado
 -women-s-alliance-and-710
DTSTART:20120914T010000Z
DTEND:20120914T030000Z
CATEGORIES:"candidate forum"
LOCATION:Bemis Library
WEBSITE:http://www.coloradowomensalliance.org/
URL:http://www.coloradowomensalliance.org/
CONTACT:
ORGANIZER:[posted by W. Branstetter]
ATTACH;FMTTYPE="image/jpeg":
ATTENDEE;ROLE=REQ-PARTICIPANT;PARTSTAT=TENTATIVE;RSVP=TRUE;CN="W. Bran
 stetter":http://arapahoeteaparty.ning.com/profile/WBranstetter
END:VEVENT
END:VCALENDAR
