BEGIN:VCALENDAR
PRODID:NingEventWidget-v1
VERSION:2.0
METHOD:PUBLISH
BEGIN:VEVENT
UID:3186561:Event:49678
DTSTAMP:20210313T182656Z
SUMMARY:April Meeting: Arapahoe Tea Party
DESCRIPTION:Join the Arapahoe Tea Party and the Colorado Tea Party Pat
 riots for our April 8, 2014, meeting.\n\nWill you be a Minuteman for L
 iberty? Patriots in Jefferson County have a few things to teach us. J
 oin us this Tuesday to learn how we can be effective!Gubernatorial can
 didate Steve House will also join us to share his vision for Colorado 
 of the future.\n\n Bring your questions, your perspective and your com
 ments. Our meetings have been standing room only, so come early!\n \n
 Tuesday, April 8, 2014 6:30-8:30 pm South Metro Fire Rescue 9195 E. Mi
 neral Ave. Centennial, CO 80112\n \nWatch for other announcements fro
 m Randy Corporon regarding speakers or topics.\n\nEvent announcement o
 n Facebook:\n\nhttps://www.facebook.com/events/1490444294512381/\n \n
  \nIf you would be interested in helping with a committee or two that
  might help make meetings and events run smoother, would you please po
 st a brief comment with this announcement.\n \nIf you are not connect
 ed via Facebook, please find the group \"Arapahoe Tea Party\" \nhttps
 ://www.facebook.com/groups/arapahoeteaparty\n \n*********************
 ****\n\nNOTE:  Please do not contact the building management for info
 rmation about this event.  The group sponsoring the event has contact
  information at the link provided above.\n\n\n\nFor more information v
 isit http://arapahoeteaparty.ning.com/events/april-meeting-arapahoe-te
 a-party
DTSTART:20140409T003000Z
DTEND:20140409T023000Z
CATEGORIES:"monthly meeting"
LOCATION:South Metro Fire Rescue Authority; Mineral Headquarters, Boar
 d Room
WEBSITE:https://maps.google.com/maps?oe=utf-8&client=firefox-a&ie=UTF-
 8&q=south+metro+fire+rescue+authority+mineral+headquarters&fb=1&gl=us&
 hq=south+metro+fire+rescue+authority+mineral+headquarters&cid=0,0,9189
 900575761474566&ei=wsvZUfvrHoWQyQHR5oGQCg&ved=0CIcBEPwSMAA
URL:https://maps.google.com/maps?oe=utf-8&client=firefox-a&ie=UTF-8&q=
 south+metro+fire+rescue+authority+mineral+headquarters&fb=1&gl=us&hq=s
 outh+metro+fire+rescue+authority+mineral+headquarters&cid=0,0,91899005
 75761474566&ei=wsvZUfvrHoWQyQHR5oGQCg&ved=0CIcBEPwSMAA
CONTACT:303-885-2550
ORGANIZER:Regina Thomson and Randy Corporon [posted by W. Branstetter]
ATTACH;FMTTYPE="image/jpeg":
ATTENDEE;ROLE=REQ-PARTICIPANT;PARTSTAT=ACCEPTED;RSVP=TRUE;CN="Todd Eat
 on":http://arapahoeteaparty.ning.com/profile/ToddEaton
ATTENDEE;ROLE=REQ-PARTICIPANT;PARTSTAT=ACCEPTED;RSVP=TRUE;CN="John L. 
 Lowrimore":http://arapahoeteaparty.ning.com/profile/JohnLLowrimore
ATTENDEE;ROLE=REQ-PARTICIPANT;PARTSTAT=ACCEPTED;RSVP=TRUE;CN="W. Brans
 tetter":http://arapahoeteaparty.ning.com/profile/WBranstetter
END:VEVENT
END:VCALENDAR
